BEGIN:VCALENDAR
VERSION:2.0
PRODID:-//Chad Moeller Baseball - ECPv6.15.20//NONSGML v1.0//EN
CALSCALE:GREGORIAN
METHOD:PUBLISH
X-WR-CALNAME:Chad Moeller Baseball
X-ORIGINAL-URL:https://chadmoellerbaseball.com
X-WR-CALDESC:Events for Chad Moeller Baseball
REFRESH-INTERVAL;VALUE=DURATION:PT1H
X-Robots-Tag:noindex
X-PUBLISHED-TTL:PT1H
BEGIN:VTIMEZONE
TZID:America/Phoenix
BEGIN:STANDARD
TZOFFSETFROM:-0700
TZOFFSETTO:-0700
TZNAME:MST
DTSTART:20230101T000000
END:STANDARD
END:VTIMEZONE
BEGIN:VEVENT
DTSTART;TZID=America/Phoenix:20241223T090000
DTEND;TZID=America/Phoenix:20241224T120000
DTSTAMP:20260424T130543
CREATED:20241107T164949Z
LAST-MODIFIED:20241202T181536Z
UID:15752-1734944400-1735041600@chadmoellerbaseball.com
SUMMARY:Winter Break Baseball Camp | December 23rd & 24th\, 2024
DESCRIPTION:All Camp Attendees get a FREE Chad Moeller Baseball T-Shirt!\nWinter Break Baseball Skills CampDecember 23rd and 24th\, 2024Location: Scottsdale Batting Cages9am to 12pm each dayAge: 7-14 Years of AgeSKILLS EMPHASIS: Hitting\, Fielding\, Pitching\, Catching \nThe CMB Winter Baseball Camp will cover all the skills that take place on the baseball field. There will be a focus on base running\, defense (both infield and outfield)\, pitching\, catching and hitting. The goal is for the boys to have fun and also learn skills and proper fundamentals. This camp is taught by former MLB players\, former and current Minor League players and former and current College players. The ratio of coaches to players will be no more than 6-1 so the players receive tremendous attention and instruction. They will play games where they can work on what they have learned and have fun competing. \n*Please bring a sack lunch and water to each day of Camp
URL:https://chadmoellerbaseball.com/clinic-or-camp/winter-break-baseball-camp-december-23rd-and-24th-2024/
LOCATION:Scottsdale Batting Cages\, 7498 E Monte Cristo Ave\, Scottsdale\, AZ\, 85260\, United States
CATEGORIES:Baseball Camps,Winter Break Baseball Camp
END:VEVENT
BEGIN:VEVENT
DTSTART;TZID=America/Phoenix:20241230T090000
DTEND;TZID=America/Phoenix:20241231T120000
DTSTAMP:20260424T130543
CREATED:20241107T165953Z
LAST-MODIFIED:20241202T181712Z
UID:15757-1735549200-1735646400@chadmoellerbaseball.com
SUMMARY:Winter Break Baseball Camp | December 30th & 31st\, 2024
DESCRIPTION:All Camp Attendees get a FREE Chad Moeller Baseball T-Shirt!\nWinter Break Baseball Skills CampDecember 30th & 31st\, 2024Location: Scottsdale Batting Cages9am to 12pm each dayAge: 7-14 Years of AgeSKILLS EMPHASIS: Hitting\, Fielding\, Pitching\, Catching \nThe CMB Winter Baseball Camp will cover all the skills that take place on the baseball field. There will be a focus on base running\, defense (both infield and outfield)\, pitching\, catching and hitting. The goal is for the boys to have fun and also learn skills and proper fundamentals. This camp is taught by former MLB players\, former and current Minor League players and former and current College players. The ratio of coaches to players will be no more than 6-1 so the players receive tremendous attention and instruction. They will play games where they can work on what they have learned and have fun competing. \n*Please bring a sack lunch and water to each day of Camp
URL:https://chadmoellerbaseball.com/clinic-or-camp/winter-break-baseball-camp-december-30th-31st-2024/
LOCATION:Scottsdale Batting Cages\, 7498 E Monte Cristo Ave\, Scottsdale\, AZ\, 85260\, United States
CATEGORIES:Baseball Camps,Winter Break Baseball Camp
END:VEVENT
END:VCALENDAR