BEGIN:VCALENDAR
VERSION:2.0
PRODID:-//Chad Moeller Baseball - ECPv6.15.20//NONSGML v1.0//EN
CALSCALE:GREGORIAN
METHOD:PUBLISH
X-ORIGINAL-URL:https://chadmoellerbaseball.com
X-WR-CALDESC:Events for Chad Moeller Baseball
REFRESH-INTERVAL;VALUE=DURATION:PT1H
X-Robots-Tag:noindex
X-PUBLISHED-TTL:PT1H
BEGIN:VTIMEZONE
TZID:America/Phoenix
BEGIN:STANDARD
TZOFFSETFROM:-0700
TZOFFSETTO:-0700
TZNAME:MST
DTSTART:20210101T000000
END:STANDARD
END:VTIMEZONE
BEGIN:VEVENT
DTSTART;TZID=America/Phoenix:20251229T090000
DTEND;TZID=America/Phoenix:20251230T140000
DTSTAMP:20260423T131015
CREATED:20251103T224149Z
LAST-MODIFIED:20251217T212801Z
UID:21112-1766998800-1767103200@chadmoellerbaseball.com
SUMMARY:Winter Baseball Camp | December 29th & 30th\, 2025
DESCRIPTION:All Camp Attendees get a FREE Chad Moeller Baseball T-Shirt!\n\nWinter Break Baseball Skills Camp\nDecember 29th and 30th\, 2025\nLocation: Scottsdale Batting Cages\n9am to 2pm each day\nAge: 7-14 Years of Age\nSKILLS EMPHASIS: Hitting\, Fielding\, Pitching\, Catching \nJoin Chad and his coaching team for two exciting days of baseball skill development and fun during Winter Break! The CMB Winter Baseball Camp is designed to help players improve in every area of the game while enjoying a supportive and energetic environment. \nCamp sessions will cover all major aspects of baseball\, including\n* Base running\n* Infield and outfield defense\n* Pitching and catching\n* Hitting fundamentals and mechanics \nInstruction is provided by former MLB players\, along with current and former Minor League and College players\, ensuring professional-level coaching for every participant. To maximize individual instruction\, the coach-to-player ratio will not exceed 6:1. \nPlayers will also have the opportunity to put their new skills into action through team games and friendly competition throughout the camp. \nParents appreciate the timing and value — this camp offers a productive and affordable way for kids to stay active over Winter Break while you take care of last-minute holiday tasks\, all for less than the cost of a babysitter. \n*Please bring a sack lunch and water to each day of Camp
URL:https://chadmoellerbaseball.com/clinic-or-camp/winter-break-baseball-camp-december-29th-and-30th-2025/
LOCATION:Scottsdale Batting Cages\, 7498 E Monte Cristo Ave\, Scottsdale\, AZ\, 85260\, United States
CATEGORIES:Baseball Camps,Winter Break Baseball Camp
END:VEVENT
BEGIN:VEVENT
DTSTART;TZID=America/Phoenix:20251222T090000
DTEND;TZID=America/Phoenix:20251223T140000
DTSTAMP:20260423T131015
CREATED:20251103T223919Z
LAST-MODIFIED:20251210T212301Z
UID:21109-1766394000-1766498400@chadmoellerbaseball.com
SUMMARY:Winter Baseball Camp |  December 22nd & 23rd\, 2025
DESCRIPTION:All Camp Attendees get a FREE Chad Moeller Baseball T-Shirt!\nWinter Break Baseball Skills CampDecember 22nd and 23rd\, 2025Location: Scottsdale Batting Cages9am to 2pm each dayAge: 7-14 Years of AgeSKILLS EMPHASIS: Hitting\, Fielding\, Pitching\, Catching \nJoin Chad and his coaching team for two exciting days of baseball skill development and fun during Winter Break! The CMB Winter Baseball Camp is designed to help players improve in every area of the game while enjoying a supportive and energetic environment. \nCamp sessions will cover all major aspects of baseball\, including* Base running* Infield and outfield defense* Pitching and catching* Hitting fundamentals and mechanics \nInstruction is provided by former MLB players\, along with current and former Minor League and College players\, ensuring professional-level coaching for every participant. To maximize individual instruction\, the coach-to-player ratio will not exceed 6:1. \nPlayers will also have the opportunity to put their new skills into action through team games and friendly competition throughout the camp. \nParents appreciate the timing and value — this camp offers a productive and affordable way for kids to stay active over Winter Break while you take care of last-minute holiday tasks\, all for less than the cost of a babysitter. \n*Please bring a sack lunch and water to each day of Camp
URL:https://chadmoellerbaseball.com/clinic-or-camp/winter-break-baseball-camp-december-22nd-and-23rd-2025/
LOCATION:Scottsdale Batting Cages\, 7498 E Monte Cristo Ave\, Scottsdale\, AZ\, 85260\, United States
CATEGORIES:Baseball Camps,Winter Break Baseball Camp
END:VEVENT
BEGIN:VEVENT
DTSTART;TZID=America/Phoenix:20250102T093000
DTEND;TZID=America/Phoenix:20250103T140000
DTSTAMP:20260423T131015
CREATED:20241107T170259Z
LAST-MODIFIED:20241202T160100Z
UID:15759-1735810200-1735912800@chadmoellerbaseball.com
SUMMARY:Winter Break Baseball Camp | January 2nd & 3rd\, 2025
DESCRIPTION:All Camp Attendees get a FREE Chad Moeller Baseball T-Shirt!\n** In case of inclement weather\, Camp will be moved indoors to Scottsdale Batting Cages **  registered campers will receive an email with location changes \nWinter Break Baseball Skills Camp\nJanuary 2nd & 3rd\, 2025\nLocation: Desert Mountain High School\n9:30am to 2pm each day\nAge: 7-14 Years of Age\nSKILLS EMPHASIS: Hitting\, Fielding\, Pitching\, Catching \nThe CMB Winter Baseball Camp will cover all the skills that take place on the baseball field. There will be a focus on base running\, defense (both infield and outfield)\, pitching\, catching and hitting. The goal is for the boys to have fun and also learn skills and proper fundamentals. This camp is taught by former MLB players\, former and current Minor League players and former and current College players. The ratio of coaches to players will be no more than 6-1 so the players receive tremendous attention and instruction. They will play games where they can work on what they have learned and have fun competing. \n*Please bring a sack lunch and water to each day of Camp
URL:https://chadmoellerbaseball.com/clinic-or-camp/winter-break-baseball-camp-january-2nd-3rd-2025/
LOCATION:Desert Mountain High School Varsity Baseball Field\, 12575 E. Via Linda\, Scottsdale\, AZ\, 85259\, United States
CATEGORIES:Baseball Camps,Winter Break Baseball Camp
END:VEVENT
BEGIN:VEVENT
DTSTART;TZID=America/Phoenix:20241230T090000
DTEND;TZID=America/Phoenix:20241231T120000
DTSTAMP:20260423T131015
CREATED:20241107T165953Z
LAST-MODIFIED:20241202T181712Z
UID:15757-1735549200-1735646400@chadmoellerbaseball.com
SUMMARY:Winter Break Baseball Camp | December 30th & 31st\, 2024
DESCRIPTION:All Camp Attendees get a FREE Chad Moeller Baseball T-Shirt!\nWinter Break Baseball Skills CampDecember 30th & 31st\, 2024Location: Scottsdale Batting Cages9am to 12pm each dayAge: 7-14 Years of AgeSKILLS EMPHASIS: Hitting\, Fielding\, Pitching\, Catching \nThe CMB Winter Baseball Camp will cover all the skills that take place on the baseball field. There will be a focus on base running\, defense (both infield and outfield)\, pitching\, catching and hitting. The goal is for the boys to have fun and also learn skills and proper fundamentals. This camp is taught by former MLB players\, former and current Minor League players and former and current College players. The ratio of coaches to players will be no more than 6-1 so the players receive tremendous attention and instruction. They will play games where they can work on what they have learned and have fun competing. \n*Please bring a sack lunch and water to each day of Camp
URL:https://chadmoellerbaseball.com/clinic-or-camp/winter-break-baseball-camp-december-30th-31st-2024/
LOCATION:Scottsdale Batting Cages\, 7498 E Monte Cristo Ave\, Scottsdale\, AZ\, 85260\, United States
CATEGORIES:Baseball Camps,Winter Break Baseball Camp
END:VEVENT
BEGIN:VEVENT
DTSTART;TZID=America/Phoenix:20241223T090000
DTEND;TZID=America/Phoenix:20241224T120000
DTSTAMP:20260423T131015
CREATED:20241107T164949Z
LAST-MODIFIED:20241202T181536Z
UID:15752-1734944400-1735041600@chadmoellerbaseball.com
SUMMARY:Winter Break Baseball Camp | December 23rd & 24th\, 2024
DESCRIPTION:All Camp Attendees get a FREE Chad Moeller Baseball T-Shirt!\nWinter Break Baseball Skills CampDecember 23rd and 24th\, 2024Location: Scottsdale Batting Cages9am to 12pm each dayAge: 7-14 Years of AgeSKILLS EMPHASIS: Hitting\, Fielding\, Pitching\, Catching \nThe CMB Winter Baseball Camp will cover all the skills that take place on the baseball field. There will be a focus on base running\, defense (both infield and outfield)\, pitching\, catching and hitting. The goal is for the boys to have fun and also learn skills and proper fundamentals. This camp is taught by former MLB players\, former and current Minor League players and former and current College players. The ratio of coaches to players will be no more than 6-1 so the players receive tremendous attention and instruction. They will play games where they can work on what they have learned and have fun competing. \n*Please bring a sack lunch and water to each day of Camp
URL:https://chadmoellerbaseball.com/clinic-or-camp/winter-break-baseball-camp-december-23rd-and-24th-2024/
LOCATION:Scottsdale Batting Cages\, 7498 E Monte Cristo Ave\, Scottsdale\, AZ\, 85260\, United States
CATEGORIES:Baseball Camps,Winter Break Baseball Camp
END:VEVENT
BEGIN:VEVENT
DTSTART;TZID=America/Phoenix:20240103T093000
DTEND;TZID=America/Phoenix:20240105T140000
DTSTAMP:20260423T131015
CREATED:20231009T160116Z
LAST-MODIFIED:20231218T173302Z
UID:14164-1704274200-1704463200@chadmoellerbaseball.com
SUMMARY:Winter Break Baseball Camp | January 3rd\, 4th & 5th\, 2024
DESCRIPTION:All Camp Attendees get a FREE Chad Moeller Baseball T-Shirt!\n** In case of inclement weather\, Camp will be moved indoors to Scottsdale Batting Cages **  registered campers will receive an email with location changes \nWinter Break Baseball Skills Camp\nJanuary 3rd\, 4th and 5th\, 2024\n9:30am-2pm each day\nAge: 7-14 Years of Age\nSKILLS EMPHASIS: Hitting\, Fielding\, Pitching\, Catching \nThe CMB Winter Baseball Camp will cover all the skills that take place on the baseball field. There will be a focus on base running\, defense (both infield and outfield)\, pitching\, catching and hitting. The goal is for the boys to have fun and also learn skills and proper fundamentals. This camp is taught by former MLB players\, former and current Minor League players and former and current College players. The ratio of coaches to players will be no more than 6-1 so the players receive tremendous attention and instruction. They will play games where they can work on what they have learned and have fun competing. \n*Please bring a sack lunch and water to each day of Camp
URL:https://chadmoellerbaseball.com/clinic-or-camp/winter-break-baseball-camp-january-3rd-4th-5th-2024/
LOCATION:Desert Mountain High School Varsity Baseball Field\, 12575 E. Via Linda\, Scottsdale\, AZ\, 85259\, United States
CATEGORIES:Baseball Camps,Winter Break Baseball Camp
END:VEVENT
BEGIN:VEVENT
DTSTART;TZID=America/Phoenix:20231228T093000
DTEND;TZID=America/Phoenix:20231229T140000
DTSTAMP:20260423T131015
CREATED:20231009T155845Z
LAST-MODIFIED:20231218T173225Z
UID:14161-1703755800-1703858400@chadmoellerbaseball.com
SUMMARY:Winter Break Baseball Camp | December 28th and 29th\, 2023
DESCRIPTION:All Camp Attendees get a FREE Chad Moeller Baseball T-Shirt!\n** In case of inclement weather\, Camp will be moved indoors to Scottsdale Batting Cages **  registered campers will receive an email with location changes \nWinter Break Baseball Skills Camp\nDecember 28th and 29th\, 2023\n9:30am-2pm each day\nAge: 7-14 Years of Age\nSKILLS EMPHASIS: Hitting\, Fielding\, Pitching\, Catching \nThe CMB Winter Baseball Camp will cover all the skills that take place on the baseball field. There will be a focus on base running\, defense (both infield and outfield)\, pitching\, catching and hitting. The goal is for the boys to have fun and also learn skills and proper fundamentals. This camp is taught by former MLB players\, former and current Minor League players and former and current College players. The ratio of coaches to players will be no more than 6-1 so the players receive tremendous attention and instruction. They will play games where they can work on what they have learned and have fun competing. \n*Please bring a sack lunch and water to each day of Camp
URL:https://chadmoellerbaseball.com/clinic-or-camp/winter-break-baseball-camp-december-28th-and-29th-2023/
LOCATION:Desert Mountain High School Varsity Baseball Field\, 12575 E. Via Linda\, Scottsdale\, AZ\, 85259\, United States
CATEGORIES:Baseball Camps,Winter Break Baseball Camp
END:VEVENT
BEGIN:VEVENT
DTSTART;TZID=America/Phoenix:20221227T093000
DTEND;TZID=America/Phoenix:20221229T140000
DTSTAMP:20260423T131015
CREATED:20221024T190908Z
LAST-MODIFIED:20221226T185200Z
UID:12956-1672133400-1672322400@chadmoellerbaseball.com
SUMMARY:Winter Break Baseball Camp | December 27th\, 28th & 29th\, 2022
DESCRIPTION:All Camp Attendees get a FREE Chad Moeller Baseball T-Shirt!\n** In case of inclement weather\, Camp will be moved indoors to Scottsdale Batting Cages **  registered campers will receive an email with location changes \nWinter Break Baseball Skills Camp\nDecember 27th – 29th\, 2022\n9:30am-2pm each day\nAge: 7-14 Years of Age\nSKILLS EMPHASIS: Hitting\, Fielding\, Pitching\, Catching \nThe CMB Winter Baseball Camp will cover all the skills that take place on the baseball field. There will be a focus on base running\, defense (both infield and outfield)\, pitching\, catching and hitting. The goal is for the boys to have fun and also learn skills and proper fundamentals. This camp is taught by former MLB players\, former and current Minor League players and former and current College players. The ratio of coaches to players will be no more than 6-1 so the players receive tremendous attention and instruction. They will play games where they can work on what they have learned and have fun competing. \n*Please bring a sack lunch and water to each day of Camp
URL:https://chadmoellerbaseball.com/clinic-or-camp/winter-break-baseball-camp-december-27th-28th-29th-2022/
LOCATION:Desert Mountain High School Varsity Baseball Field\, 12575 E. Via Linda\, Scottsdale\, AZ\, 85259\, United States
CATEGORIES:Baseball Camps,Winter Break Baseball Camp
END:VEVENT
END:VCALENDAR