BEGIN:VCALENDAR
VERSION:2.0
PRODID:-//Chad Moeller Baseball - ECPv6.15.20//NONSGML v1.0//EN
CALSCALE:GREGORIAN
METHOD:PUBLISH
X-WR-CALNAME:Chad Moeller Baseball
X-ORIGINAL-URL:https://chadmoellerbaseball.com
X-WR-CALDESC:Events for Chad Moeller Baseball
REFRESH-INTERVAL;VALUE=DURATION:PT1H
X-Robots-Tag:noindex
X-PUBLISHED-TTL:PT1H
BEGIN:VTIMEZONE
TZID:America/Phoenix
BEGIN:STANDARD
TZOFFSETFROM:-0700
TZOFFSETTO:-0700
TZNAME:MST
DTSTART:20240101T000000
END:STANDARD
END:VTIMEZONE
BEGIN:VEVENT
DTSTART;TZID=America/Phoenix:20250302T090000
DTEND;TZID=America/Phoenix:20250302T110000
DTSTAMP:20260424T083417
CREATED:20250219T221510Z
LAST-MODIFIED:20250219T221510Z
UID:18528-1740906000-1740913200@chadmoellerbaseball.com
SUMMARY:Pitching Clinic | March 2nd\, 2025
DESCRIPTION:Get ready to take your pitching skills to the next level at our dynamic Pitcher Clinic! Led by MLB baseball pros and top-notch instructors\, this clinic is designed to elevate every aspect of your game. From breaking down pitching mechanics to one-on-one personalized coaching\, you’ll gain the tools and techniques to dominate on the mound. With a maximum coach-to-player ratio of 1:6\, you’ll get the attention you need to refine your skills and build confidence. Don’t miss this chance to train like a pro and unleash your full potential!
URL:https://chadmoellerbaseball.com/clinic-or-camp/pitching-clinic-march-2nd-2025/
LOCATION:Scottsdale Batting Cages\, 7498 E Monte Cristo Ave\, Scottsdale\, AZ\, 85260\, United States
CATEGORIES:Baseball Clinics,Pitching Clinic
END:VEVENT
BEGIN:VEVENT
DTSTART;TZID=America/Phoenix:20250302T090000
DTEND;TZID=America/Phoenix:20250302T110000
DTSTAMP:20260424T083417
CREATED:20250219T221835Z
LAST-MODIFIED:20250219T221835Z
UID:18531-1740906000-1740913200@chadmoellerbaseball.com
SUMMARY:Catcher Clinic | March 2nd\, 2025
DESCRIPTION:This Catcher Clinic is for boys 7-13 and is led by World Series Winning MLB Catcher Chad Moeller. The goal of this Clinic is for young players to learn the fundamentals of playing the position of Catcher\, including blocking\, receiving\, throwing and footwork.
URL:https://chadmoellerbaseball.com/clinic-or-camp/catcher-clinic-march-2nd-2025/
LOCATION:Scottsdale Batting Cages\, 7498 E Monte Cristo Ave\, Scottsdale\, AZ\, 85260\, United States
CATEGORIES:Baseball Clinics,Catching Clinic
END:VEVENT
BEGIN:VEVENT
DTSTART;TZID=America/Phoenix:20250316T090000
DTEND;TZID=America/Phoenix:20250316T110000
DTSTAMP:20260424T083417
CREATED:20250219T220252Z
LAST-MODIFIED:20250219T220252Z
UID:18522-1742115600-1742122800@chadmoellerbaseball.com
SUMMARY:Hitting Clinic | March 16th\, 2025
DESCRIPTION:This Hitting Clinic is for boys aged 7-14. The goal of the Clinic is for the boys to have fun while learning proper fundamentals and Hitting Skills. The Clinic Instruction is led by Chad Moeller and his team of former MLB players\, former and current Minor League players\, and former and current College players.
URL:https://chadmoellerbaseball.com/clinic-or-camp/hitting-clinic-march-16th-2025/
LOCATION:Scottsdale Batting Cages\, 7498 E Monte Cristo Ave\, Scottsdale\, AZ\, 85260\, United States
CATEGORIES:Baseball Clinics,Hitting Clinic
END:VEVENT
BEGIN:VEVENT
DTSTART;TZID=America/Phoenix:20250323T090000
DTEND;TZID=America/Phoenix:20250323T110000
DTSTAMP:20260424T083417
CREATED:20250219T220528Z
LAST-MODIFIED:20250219T220528Z
UID:18525-1742720400-1742727600@chadmoellerbaseball.com
SUMMARY:Hitting Clinic | March 23rd\, 2025
DESCRIPTION:This Hitting Clinic is for boys aged 7-14. The goal of the Clinic is for the boys to have fun while learning proper fundamentals and Hitting Skills. The Clinic Instruction is led by Chad Moeller and his team of former MLB players\, former and current Minor League players\, and former and current College players.
URL:https://chadmoellerbaseball.com/clinic-or-camp/hitting-clinic-march-23rd-2025/
LOCATION:Scottsdale Batting Cages\, 7498 E Monte Cristo Ave\, Scottsdale\, AZ\, 85260\, United States
CATEGORIES:Baseball Clinics,Hitting Clinic
END:VEVENT
BEGIN:VEVENT
DTSTART;TZID=America/Phoenix:20250330T090000
DTEND;TZID=America/Phoenix:20250330T110000
DTSTAMP:20260424T083417
CREATED:20250219T215544Z
LAST-MODIFIED:20250219T222450Z
UID:18534-1743325200-1743332400@chadmoellerbaseball.com
SUMMARY:Catcher Clinic | March 30th\, 2025
DESCRIPTION:This Catcher Clinic is for boys 7-13 and is led by World Series Winning MLB Catcher Chad Moeller. The goal of this Clinic is for young players to learn the fundamentals of playing the position of Catcher\, including blocking\, receiving\, throwing and footwork.
URL:https://chadmoellerbaseball.com/clinic-or-camp/catcher-clinic-march-30th-2025/
LOCATION:Scottsdale Batting Cages\, 7498 E Monte Cristo Ave\, Scottsdale\, AZ\, 85260\, United States
CATEGORIES:Baseball Clinics,Catching Clinic
END:VEVENT
BEGIN:VEVENT
DTSTART;TZID=America/Phoenix:20250330T090000
DTEND;TZID=America/Phoenix:20250330T110000
DTSTAMP:20260424T083417
CREATED:20250219T215654Z
LAST-MODIFIED:20250219T223546Z
UID:18537-1743325200-1743332400@chadmoellerbaseball.com
SUMMARY:Pitching Clinic | March 30th\, 2025
DESCRIPTION:Get ready to take your pitching skills to the next level at our dynamic Pitcher Clinic! Led by MLB baseball pros and top-notch instructors\, this clinic is designed to elevate every aspect of your game. From breaking down pitching mechanics to one-on-one personalized coaching\, you’ll gain the tools and techniques to dominate on the mound. With a maximum coach-to-player ratio of 1:6\, you’ll get the attention you need to refine your skills and build confidence. Don’t miss this chance to train like a pro and unleash your full potential!
URL:https://chadmoellerbaseball.com/clinic-or-camp/pitching-clinic-march-30th-2025/
LOCATION:Scottsdale Batting Cages\, 7498 E Monte Cristo Ave\, Scottsdale\, AZ\, 85260\, United States
CATEGORIES:Baseball Clinics,Pitching Clinic
END:VEVENT
END:VCALENDAR