BEGIN:VCALENDAR
VERSION:2.0
PRODID:-//Chad Moeller Baseball - ECPv6.15.20//NONSGML v1.0//EN
CALSCALE:GREGORIAN
METHOD:PUBLISH
X-WR-CALNAME:Chad Moeller Baseball
X-ORIGINAL-URL:https://chadmoellerbaseball.com
X-WR-CALDESC:Events for Chad Moeller Baseball
REFRESH-INTERVAL;VALUE=DURATION:PT1H
X-Robots-Tag:noindex
X-PUBLISHED-TTL:PT1H
BEGIN:VTIMEZONE
TZID:America/Phoenix
BEGIN:STANDARD
TZOFFSETFROM:-0700
TZOFFSETTO:-0700
TZNAME:MST
DTSTART:20250101T000000
END:STANDARD
END:VTIMEZONE
BEGIN:VEVENT
DTSTART;TZID=America/Phoenix:20260301T090000
DTEND;TZID=America/Phoenix:20260301T110000
DTSTAMP:20260423T143831
CREATED:20260223T174439Z
LAST-MODIFIED:20260223T174439Z
UID:21587-1772355600-1772362800@chadmoellerbaseball.com
SUMMARY:Hitting Clinic | March 1st\, 2026
DESCRIPTION:Step up to the plate at our Hitting Clinic designed for boys ages 7–14! This high-energy clinic combines fun with focused instruction to help young players build strong fundamentals and sharpen their hitting skills. Led by former MLB catcher Chad Moeller\, along with an elite team of former and current Minor League and College players\, this is a unique opportunity to learn from the pros and take your game to the next level.
URL:https://chadmoellerbaseball.com/clinic-or-camp/hitting-clinic-march-1st-2026/
LOCATION:Scottsdale Batting Cages\, 7498 E Monte Cristo Ave\, Scottsdale\, AZ\, 85260\, United States
CATEGORIES:Baseball Clinics,Hitting Clinic
END:VEVENT
BEGIN:VEVENT
DTSTART;TZID=America/Phoenix:20260308T090000
DTEND;TZID=America/Phoenix:20260308T110000
DTSTAMP:20260423T143831
CREATED:20260223T174951Z
LAST-MODIFIED:20260223T174951Z
UID:21590-1772960400-1772967600@chadmoellerbaseball.com
SUMMARY:Pitching Clinic | March 8th\, 2026
DESCRIPTION:Get ready to take your pitching skills to the next level at our dynamic Pitcher Clinic! Led by 17-year MLB Pitcher & AZ top-rated instructor Stephen Randolph\, this clinic is designed to elevate every aspect of your game. From breaking down pitching mechanics to one-on-one personalized coaching\, you’ll gain the tools and techniques to dominate on the mound. With a maximum coach-to-player ratio of 1:6\, you’ll get the attention you need to refine your skills and build confidence. Don’t miss this chance to train like a pro and unleash your full potential!
URL:https://chadmoellerbaseball.com/clinic-or-camp/pitching-clinic-march-8th-2026/
LOCATION:Scottsdale Batting Cages\, 7498 E Monte Cristo Ave\, Scottsdale\, AZ\, 85260\, United States
CATEGORIES:Baseball Clinics,Pitching Clinic
END:VEVENT
BEGIN:VEVENT
DTSTART;TZID=America/Phoenix:20260308T090000
DTEND;TZID=America/Phoenix:20260308T110000
DTSTAMP:20260423T143831
CREATED:20260223T175313Z
LAST-MODIFIED:20260223T175313Z
UID:21593-1772960400-1772967600@chadmoellerbaseball.com
SUMMARY:Catcher Clinic | March 8th\, 2026
DESCRIPTION:Gear up for an elite Catcher Clinic built for boys ages 7–14! Led by World Series Champion and former MLB catcher Chad Moeller\, this clinic is designed to teach the core skills every great catcher needs—blocking\, receiving\, throwing\, and footwork. Young athletes will get hands-on training in a fun\, fast-paced environment\, learning the techniques that set top-level catchers apart.
URL:https://chadmoellerbaseball.com/clinic-or-camp/catcher-clinic-march-8th-2026/
LOCATION:Scottsdale Batting Cages\, 7498 E Monte Cristo Ave\, Scottsdale\, AZ\, 85260\, United States
CATEGORIES:Baseball Clinics,Catching Clinic
END:VEVENT
BEGIN:VEVENT
DTSTART;TZID=America/Phoenix:20260322T090000
DTEND;TZID=America/Phoenix:20260322T110000
DTSTAMP:20260423T143831
CREATED:20260223T175658Z
LAST-MODIFIED:20260223T175658Z
UID:21596-1774170000-1774177200@chadmoellerbaseball.com
SUMMARY:Hitting Clinic | March 22nd\, 2026
DESCRIPTION:Step up to the plate at our Hitting Clinic designed for boys ages 7–14! This high-energy clinic combines fun with focused instruction to help young players build strong fundamentals and sharpen their hitting skills. Led by former MLB catcher Chad Moeller\, along with an elite team of former and current Minor League and College players\, this is a unique opportunity to learn from the pros and take your game to the next level.
URL:https://chadmoellerbaseball.com/clinic-or-camp/hitting-clinic-march-22nd-2026/
LOCATION:Scottsdale Batting Cages\, 7498 E Monte Cristo Ave\, Scottsdale\, AZ\, 85260\, United States
CATEGORIES:Baseball Clinics,Hitting Clinic
END:VEVENT
END:VCALENDAR