BEGIN:VCALENDAR
VERSION:2.0
PRODID:-//Chad Moeller Baseball - ECPv6.15.20//NONSGML v1.0//EN
CALSCALE:GREGORIAN
METHOD:PUBLISH
X-ORIGINAL-URL:https://chadmoellerbaseball.com
X-WR-CALDESC:Events for Chad Moeller Baseball
REFRESH-INTERVAL;VALUE=DURATION:PT1H
X-Robots-Tag:noindex
X-PUBLISHED-TTL:PT1H
BEGIN:VTIMEZONE
TZID:America/Phoenix
BEGIN:STANDARD
TZOFFSETFROM:-0700
TZOFFSETTO:-0700
TZNAME:MST
DTSTART:20210101T000000
END:STANDARD
END:VTIMEZONE
BEGIN:VEVENT
DTSTART;TZID=America/Phoenix:20221023T090000
DTEND;TZID=America/Phoenix:20221023T110000
DTSTAMP:20260423T165329
CREATED:20220929T021841Z
LAST-MODIFIED:20220929T050635Z
UID:12920-1666515600-1666522800@chadmoellerbaseball.com
SUMMARY:Hitting Clinic | October 23rd\, 2022
DESCRIPTION:This Hitting Clinic is for boys aged 7-14. The goal of the Clinic is for the boys to have fun while learning proper fundamentals and Hitting Skills. The Clinic Instruction is led by Chad Moeller and his team of former MLB players\, former and current Minor League players\, and former and current College players.
URL:https://chadmoellerbaseball.com/clinic-or-camp/hitting-clinic-october-22nd-2022/
LOCATION:Scottsdale Batting Cages\, 7498 E Monte Cristo Ave\, Scottsdale\, AZ\, 85260\, United States
CATEGORIES:Baseball Clinics,Hitting Clinic
END:VEVENT
BEGIN:VEVENT
DTSTART;TZID=America/Phoenix:20220925T090000
DTEND;TZID=America/Phoenix:20220925T110000
DTSTAMP:20260423T165329
CREATED:20220823T173228Z
LAST-MODIFIED:20220823T173228Z
UID:12808-1664096400-1664103600@chadmoellerbaseball.com
SUMMARY:Hitting Clinic | September 25th\, 2022
DESCRIPTION:This Hitting Clinic is for boys aged 7-14. The goal of the Clinic is for the boys to have fun while learning proper fundamentals and Hitting Skills. The Clinic Instruction is led by Chad Moeller and his team of former MLB players\, former and current Minor League players\, and former and current College players.
URL:https://chadmoellerbaseball.com/clinic-or-camp/hitting-clinic-september-25th-2022/
LOCATION:Scottsdale Batting Cages\, 7498 E Monte Cristo Ave\, Scottsdale\, AZ\, 85260\, United States
CATEGORIES:Baseball Clinics,Hitting Clinic
END:VEVENT
BEGIN:VEVENT
DTSTART;TZID=America/Phoenix:20220828T090000
DTEND;TZID=America/Phoenix:20220828T110000
DTSTAMP:20260423T165329
CREATED:20220823T173034Z
LAST-MODIFIED:20220823T173034Z
UID:12805-1661677200-1661684400@chadmoellerbaseball.com
SUMMARY:Hitting Clinic | August 28th\, 2022
DESCRIPTION:This Hitting Clinic is for boys aged 7-14. The goal of the Clinic is for the boys to have fun while learning proper fundamentals and Hitting Skills. The Clinic Instruction is led by Chad Moeller and his team of former MLB players\, former and current Minor League players\, and former and current College players.
URL:https://chadmoellerbaseball.com/clinic-or-camp/hitting-clinic-august-28th-2022/
LOCATION:Scottsdale Batting Cages\, 7498 E Monte Cristo Ave\, Scottsdale\, AZ\, 85260\, United States
CATEGORIES:Baseball Clinics,Hitting Clinic
END:VEVENT
END:VCALENDAR