BEGIN:VCALENDAR
VERSION:2.0
PRODID:-//Chad Moeller Baseball - ECPv6.15.20//NONSGML v1.0//EN
CALSCALE:GREGORIAN
METHOD:PUBLISH
X-ORIGINAL-URL:https://chadmoellerbaseball.com
X-WR-CALDESC:Events for Chad Moeller Baseball
REFRESH-INTERVAL;VALUE=DURATION:PT1H
X-Robots-Tag:noindex
X-PUBLISHED-TTL:PT1H
BEGIN:VTIMEZONE
TZID:America/Phoenix
BEGIN:STANDARD
TZOFFSETFROM:-0700
TZOFFSETTO:-0700
TZNAME:MST
DTSTART:20230101T000000
END:STANDARD
END:VTIMEZONE
BEGIN:VEVENT
DTSTART;TZID=America/Phoenix:20251026T090000
DTEND;TZID=America/Phoenix:20251026T110000
DTSTAMP:20260423T144247
CREATED:20250930T173958Z
LAST-MODIFIED:20250930T173958Z
UID:20956-1761469200-1761476400@chadmoellerbaseball.com
SUMMARY:Catcher Clinic | October 26th\, 2025
DESCRIPTION:Gear up for an elite Catcher Clinic built for boys ages 7–14! Led by World Series Champion and former MLB catcher Chad Moeller\, this clinic is designed to teach the core skills every great catcher needs—blocking\, receiving\, throwing\, and footwork. Young athletes will get hands-on training in a fun\, fast-paced environment\, learning the techniques that set top-level catchers apart.
URL:https://chadmoellerbaseball.com/clinic-or-camp/catcher-clinic-october-26th-2025/
LOCATION:Scottsdale Batting Cages\, 7498 E Monte Cristo Ave\, Scottsdale\, AZ\, 85260\, United States
CATEGORIES:Baseball Clinics,Catching Clinic
END:VEVENT
BEGIN:VEVENT
DTSTART;TZID=America/Phoenix:20251012T090000
DTEND;TZID=America/Phoenix:20251012T110000
DTSTAMP:20260423T144247
CREATED:20250930T175635Z
LAST-MODIFIED:20250930T175635Z
UID:20962-1760259600-1760266800@chadmoellerbaseball.com
SUMMARY:Hitting Clinic | October 12th\, 2025
DESCRIPTION:Step up to the plate at our Hitting Clinic designed for boys ages 7–14! This high-energy clinic combines fun with focused instruction to help young players build strong fundamentals and sharpen their hitting skills. Led by former MLB catcher Chad Moeller\, along with an elite team of former and current Minor League and College players\, this is a unique opportunity to learn from the pros and take your game to the next level.
URL:https://chadmoellerbaseball.com/clinic-or-camp/hitting-clinic-october-12th-2025/
LOCATION:Scottsdale Batting Cages\, 7498 E Monte Cristo Ave\, Scottsdale\, AZ\, 85260\, United States
CATEGORIES:Baseball Clinics,Hitting Clinic
END:VEVENT
BEGIN:VEVENT
DTSTART;TZID=America/Phoenix:20250928T090000
DTEND;TZID=America/Phoenix:20250928T110000
DTSTAMP:20260423T144247
CREATED:20250823T160051Z
LAST-MODIFIED:20250823T160153Z
UID:20850-1759050000-1759057200@chadmoellerbaseball.com
SUMMARY:Catcher Clinic | September 28th\, 2025
DESCRIPTION:Gear up for an elite Catcher Clinic built for boys ages 7–14! Led by World Series Champion and former MLB catcher Chad Moeller\, this clinic is designed to teach the core skills every great catcher needs—blocking\, receiving\, throwing\, and footwork. Young athletes will get hands-on training in a fun\, fast-paced environment\, learning the techniques that set top-level catchers apart.
URL:https://chadmoellerbaseball.com/clinic-or-camp/catcher-clinic-september-28th-2025/
LOCATION:Scottsdale Batting Cages\, 7498 E Monte Cristo Ave\, Scottsdale\, AZ\, 85260\, United States
CATEGORIES:Baseball Clinics,Catching Clinic
END:VEVENT
BEGIN:VEVENT
DTSTART;TZID=America/Phoenix:20250928T090000
DTEND;TZID=America/Phoenix:20250928T110000
DTSTAMP:20260423T144247
CREATED:20250823T155719Z
LAST-MODIFIED:20250823T155719Z
UID:20847-1759050000-1759057200@chadmoellerbaseball.com
SUMMARY:Pitching Clinic | September 28th\, 2025
DESCRIPTION:Get ready to take your pitching skills to the next level at our dynamic Pitcher Clinic! Led by 17-year MLB Pitcher & AZ top-rated instructor Stephen Randolph\, this clinic is designed to elevate every aspect of your game. From breaking down pitching mechanics to one-on-one personalized coaching\, you’ll gain the tools and techniques to dominate on the mound. With a maximum coach-to-player ratio of 1:6\, you’ll get the attention you need to refine your skills and build confidence. Don’t miss this chance to train like a pro and unleash your full potential!
URL:https://chadmoellerbaseball.com/clinic-or-camp/pitching-clinic-september-28th-2025/
LOCATION:Scottsdale Batting Cages\, 7498 E Monte Cristo Ave\, Scottsdale\, AZ\, 85260\, United States
CATEGORIES:Baseball Clinics,Pitching Clinic
END:VEVENT
BEGIN:VEVENT
DTSTART;TZID=America/Phoenix:20250921T090000
DTEND;TZID=America/Phoenix:20250921T110000
DTSTAMP:20260423T144247
CREATED:20250823T155302Z
LAST-MODIFIED:20250823T155302Z
UID:20844-1758445200-1758452400@chadmoellerbaseball.com
SUMMARY:Hitting Clinic | September 21st\, 2025
DESCRIPTION:Step up to the plate at our Hitting Clinic designed for boys ages 7–14! This high-energy clinic combines fun with focused instruction to help young players build strong fundamentals and sharpen their hitting skills. Led by former MLB catcher Chad Moeller\, along with an elite team of former and current Minor League and College players\, this is a unique opportunity to learn from the pros and take your game to the next level.
URL:https://chadmoellerbaseball.com/clinic-or-camp/hitting-clinic-september-21st-2025/
LOCATION:Scottsdale Batting Cages\, 7498 E Monte Cristo Ave\, Scottsdale\, AZ\, 85260\, United States
CATEGORIES:Baseball Clinics,Hitting Clinic
END:VEVENT
BEGIN:VEVENT
DTSTART;TZID=America/Phoenix:20250824T090000
DTEND;TZID=America/Phoenix:20250824T110000
DTSTAMP:20260423T144247
CREATED:20250722T154122Z
LAST-MODIFIED:20250823T161531Z
UID:20092-1756026000-1756033200@chadmoellerbaseball.com
SUMMARY:Catcher Clinic | August 24th\, 2025
DESCRIPTION:The August Catcher Clinic is Sold Out!\n\nGrab your spot now for the September Catcher Clinic: https://chadmoellerbaseball.com/clinic-or-camp/catcher-clinic-september-28th-2025/\nGear up for an elite Catcher Clinic built for boys ages 7–14! Led by World Series Champion and former MLB catcher Chad Moeller\, this clinic is designed to teach the core skills every great catcher needs—blocking\, receiving\, throwing\, and footwork. Young athletes will get hands-on training in a fun\, fast-paced environment\, learning the techniques that set top-level catchers apart.
URL:https://chadmoellerbaseball.com/clinic-or-camp/catcher-clinic-august-24th-2025/
LOCATION:Scottsdale Batting Cages\, 7498 E Monte Cristo Ave\, Scottsdale\, AZ\, 85260\, United States
CATEGORIES:Baseball Clinics,Catching Clinic
END:VEVENT
BEGIN:VEVENT
DTSTART;TZID=America/Phoenix:20250824T090000
DTEND;TZID=America/Phoenix:20250824T110000
DTSTAMP:20260423T144247
CREATED:20250722T153709Z
LAST-MODIFIED:20250823T161709Z
UID:20089-1756026000-1756033200@chadmoellerbaseball.com
SUMMARY:Pitching Clinic | August 24th\, 2025
DESCRIPTION:The August Pitching Clinic is Sold Out!\n\nGrab your spot now for the September Pitching Clinic: https://chadmoellerbaseball.com/clinic-or-camp/pitching-clinic-september-28th-2025/\nGet ready to take your pitching skills to the next level at our dynamic Pitcher Clinic! Led by 17-year MLB Pitcher & AZ top-rated instructor Stephen Randolph\, this clinic is designed to elevate every aspect of your game. From breaking down pitching mechanics to one-on-one personalized coaching\, you’ll gain the tools and techniques to dominate on the mound. With a maximum coach-to-player ratio of 1:6\, you’ll get the attention you need to refine your skills and build confidence. Don’t miss this chance to train like a pro and unleash your full potential!
URL:https://chadmoellerbaseball.com/clinic-or-camp/pitching-clinic-august-24th-2025/
LOCATION:Scottsdale Batting Cages\, 7498 E Monte Cristo Ave\, Scottsdale\, AZ\, 85260\, United States
CATEGORIES:Baseball Clinics,Pitching Clinic
END:VEVENT
BEGIN:VEVENT
DTSTART;TZID=America/Phoenix:20250817T090000
DTEND;TZID=America/Phoenix:20250817T110000
DTSTAMP:20260423T144247
CREATED:20250722T150822Z
LAST-MODIFIED:20250722T150822Z
UID:20080-1755421200-1755428400@chadmoellerbaseball.com
SUMMARY:Hitting Clinic | August 17th\, 2025
DESCRIPTION:Step up to the plate at our Hitting Clinic designed for boys ages 7–14! This high-energy clinic combines fun with focused instruction to help young players build strong fundamentals and sharpen their hitting skills. Led by former MLB catcher Chad Moeller\, along with an elite team of former and current Minor League and College players\, this is a unique opportunity to learn from the pros and take your game to the next level.
URL:https://chadmoellerbaseball.com/clinic-or-camp/hitting-clinic-august-17th-2025/
LOCATION:Scottsdale Batting Cages\, 7498 E Monte Cristo Ave\, Scottsdale\, AZ\, 85260\, United States
CATEGORIES:Baseball Clinics,Hitting Clinic
END:VEVENT
BEGIN:VEVENT
DTSTART;TZID=America/Phoenix:20250715T190000
DTEND;TZID=America/Phoenix:20250731T203000
DTSTAMP:20260423T144247
CREATED:20250512T181628Z
LAST-MODIFIED:20250715T144333Z
UID:19057-1752606000-1753993800@chadmoellerbaseball.com
SUMMARY:Summer Baseball Skills Program
DESCRIPTION:Summer Skills Program\nPresented by Chad Moeller & Scottsdale Batting Cages\n\nTake your game to the next level this summer with elite instruction from former MLB catcher and World Series Champion Chad Moeller. This high-intensity skills program is designed for serious players ages 10–15 who are ready to refine their game with professional-level coaching. \nAthletes will receive focused training in hitting\, throwing\, and fielding\, with an emphasis on technique\, precision\, and baseball IQ. Chad’s years of MLB experience and coaching expertise offer players a rare opportunity to gain the insight and tools needed to elevate their performance on the field. \nExpect to be challenged\, expect to grow—expect to level up. \nSpots are limited to ensure individualized attention. Don’t miss this chance to train like a pro! \n\nThis program with be held every Tuesday & Thursday from 7-8:30pm starting May 27th through July 31st (excluding the week of July 4th).\nPurchase your package and attend the dates that work for you! \n\n5 session package: $150\n10 session package: $300\nUnlimited package: $500\nSingle session drop-in: $50\n\n  \nOnce you’ve purchased your package\, you’ll receive a link to RSVP for the dates of your choosing. Please sign up for each date at least 24 hours in advance\, and also cancel at least 24 hours in advance. \n 
URL:https://chadmoellerbaseball.com/clinic-or-camp/summer-baseball-skills-program/
LOCATION:Scottsdale Batting Cages\, 7498 E Monte Cristo Ave\, Scottsdale\, AZ\, 85260\, United States
CATEGORIES:Skills Program
END:VEVENT
BEGIN:VEVENT
DTSTART;TZID=America/Phoenix:20250504T090000
DTEND;TZID=America/Phoenix:20250504T110000
DTSTAMP:20260423T144247
CREATED:20250219T101010Z
LAST-MODIFIED:20250429T154054Z
UID:18926-1746349200-1746356400@chadmoellerbaseball.com
SUMMARY:Hitting Clinic | May 4th\, 2025
DESCRIPTION:This Hitting Clinic is for boys aged 7-14. The goal of the Clinic is for the boys to have fun while learning proper fundamentals and Hitting Skills. The Clinic Instruction is led by Chad Moeller and his team of former MLB players\, former and current Minor League players\, and former and current College players.
URL:https://chadmoellerbaseball.com/clinic-or-camp/hitting-clinic-may-4th-2025/
LOCATION:Scottsdale Batting Cages\, 7498 E Monte Cristo Ave\, Scottsdale\, AZ\, 85260\, United States
CATEGORIES:Baseball Clinics,Hitting Clinic
END:VEVENT
BEGIN:VEVENT
DTSTART;TZID=America/Phoenix:20250427T090000
DTEND;TZID=America/Phoenix:20250427T110000
DTSTAMP:20260423T144247
CREATED:20250219T215420Z
LAST-MODIFIED:20250324T195031Z
UID:18688-1745744400-1745751600@chadmoellerbaseball.com
SUMMARY:Hitting Clinic | April 27th\, 2025
DESCRIPTION:This Hitting Clinic is for boys aged 7-14. The goal of the Clinic is for the boys to have fun while learning proper fundamentals and Hitting Skills. The Clinic Instruction is led by Chad Moeller and his team of former MLB players\, former and current Minor League players\, and former and current College players.
URL:https://chadmoellerbaseball.com/clinic-or-camp/hitting-clinic-april-27th-2025/
LOCATION:Scottsdale Batting Cages\, 7498 E Monte Cristo Ave\, Scottsdale\, AZ\, 85260\, United States
CATEGORIES:Baseball Clinics,Hitting Clinic
END:VEVENT
BEGIN:VEVENT
DTSTART;TZID=America/Phoenix:20250413T090000
DTEND;TZID=America/Phoenix:20250413T110000
DTSTAMP:20260423T144247
CREATED:20250219T215339Z
LAST-MODIFIED:20250324T205621Z
UID:18691-1744534800-1744542000@chadmoellerbaseball.com
SUMMARY:Pitching Clinic | April 13th\, 2025
DESCRIPTION:Get ready to take your pitching skills to the next level at our dynamic Pitcher Clinic! Led by 17-year MLB Pitcher & AZ top-rated instructor Stephen Randolph\, this clinic is designed to elevate every aspect of your game. From breaking down pitching mechanics to one-on-one personalized coaching\, you’ll gain the tools and techniques to dominate on the mound. With a maximum coach-to-player ratio of 1:6\, you’ll get the attention you need to refine your skills and build confidence. Don’t miss this chance to train like a pro and unleash your full potential!
URL:https://chadmoellerbaseball.com/clinic-or-camp/pitching-clinic-april-13th-2025/
LOCATION:Scottsdale Batting Cages\, 7498 E Monte Cristo Ave\, Scottsdale\, AZ\, 85260\, United States
CATEGORIES:Baseball Clinics,Pitching Clinic
END:VEVENT
BEGIN:VEVENT
DTSTART;TZID=America/Phoenix:20250413T090000
DTEND;TZID=America/Phoenix:20250413T110000
DTSTAMP:20260423T144247
CREATED:20250219T215325Z
LAST-MODIFIED:20250324T195900Z
UID:18694-1744534800-1744542000@chadmoellerbaseball.com
SUMMARY:Catcher Clinic | April 13th\, 2025
DESCRIPTION:This Catcher Clinic is for boys 7-13 and is led by World Series Winning MLB Catcher Chad Moeller. The goal of this Clinic is for young players to learn the fundamentals of playing the position of Catcher\, including blocking\, receiving\, throwing and footwork.
URL:https://chadmoellerbaseball.com/clinic-or-camp/catcher-clinic-april-13th-2025/
LOCATION:Scottsdale Batting Cages\, 7498 E Monte Cristo Ave\, Scottsdale\, AZ\, 85260\, United States
CATEGORIES:Baseball Clinics,Catching Clinic
END:VEVENT
BEGIN:VEVENT
DTSTART;TZID=America/Phoenix:20250406T090000
DTEND;TZID=America/Phoenix:20250406T110000
DTSTAMP:20260423T144247
CREATED:20250219T215222Z
LAST-MODIFIED:20250324T200213Z
UID:18698-1743930000-1743937200@chadmoellerbaseball.com
SUMMARY:Hitting Clinic | April 6th\, 2025
DESCRIPTION:This Hitting Clinic is for boys aged 7-14. The goal of the Clinic is for the boys to have fun while learning proper fundamentals and Hitting Skills. The Clinic Instruction is led by Chad Moeller and his team of former MLB players\, former and current Minor League players\, and former and current College players.
URL:https://chadmoellerbaseball.com/clinic-or-camp/hitting-clinic-april-6th-2025/
LOCATION:Scottsdale Batting Cages\, 7498 E Monte Cristo Ave\, Scottsdale\, AZ\, 85260\, United States
CATEGORIES:Baseball Clinics,Hitting Clinic
END:VEVENT
BEGIN:VEVENT
DTSTART;TZID=America/Phoenix:20250330T090000
DTEND;TZID=America/Phoenix:20250330T110000
DTSTAMP:20260423T144247
CREATED:20250219T215654Z
LAST-MODIFIED:20250219T223546Z
UID:18537-1743325200-1743332400@chadmoellerbaseball.com
SUMMARY:Pitching Clinic | March 30th\, 2025
DESCRIPTION:Get ready to take your pitching skills to the next level at our dynamic Pitcher Clinic! Led by MLB baseball pros and top-notch instructors\, this clinic is designed to elevate every aspect of your game. From breaking down pitching mechanics to one-on-one personalized coaching\, you’ll gain the tools and techniques to dominate on the mound. With a maximum coach-to-player ratio of 1:6\, you’ll get the attention you need to refine your skills and build confidence. Don’t miss this chance to train like a pro and unleash your full potential!
URL:https://chadmoellerbaseball.com/clinic-or-camp/pitching-clinic-march-30th-2025/
LOCATION:Scottsdale Batting Cages\, 7498 E Monte Cristo Ave\, Scottsdale\, AZ\, 85260\, United States
CATEGORIES:Baseball Clinics,Pitching Clinic
END:VEVENT
BEGIN:VEVENT
DTSTART;TZID=America/Phoenix:20250330T090000
DTEND;TZID=America/Phoenix:20250330T110000
DTSTAMP:20260423T144247
CREATED:20250219T215544Z
LAST-MODIFIED:20250219T222450Z
UID:18534-1743325200-1743332400@chadmoellerbaseball.com
SUMMARY:Catcher Clinic | March 30th\, 2025
DESCRIPTION:This Catcher Clinic is for boys 7-13 and is led by World Series Winning MLB Catcher Chad Moeller. The goal of this Clinic is for young players to learn the fundamentals of playing the position of Catcher\, including blocking\, receiving\, throwing and footwork.
URL:https://chadmoellerbaseball.com/clinic-or-camp/catcher-clinic-march-30th-2025/
LOCATION:Scottsdale Batting Cages\, 7498 E Monte Cristo Ave\, Scottsdale\, AZ\, 85260\, United States
CATEGORIES:Baseball Clinics,Catching Clinic
END:VEVENT
BEGIN:VEVENT
DTSTART;TZID=America/Phoenix:20250323T090000
DTEND;TZID=America/Phoenix:20250323T110000
DTSTAMP:20260423T144247
CREATED:20250219T220528Z
LAST-MODIFIED:20250219T220528Z
UID:18525-1742720400-1742727600@chadmoellerbaseball.com
SUMMARY:Hitting Clinic | March 23rd\, 2025
DESCRIPTION:This Hitting Clinic is for boys aged 7-14. The goal of the Clinic is for the boys to have fun while learning proper fundamentals and Hitting Skills. The Clinic Instruction is led by Chad Moeller and his team of former MLB players\, former and current Minor League players\, and former and current College players.
URL:https://chadmoellerbaseball.com/clinic-or-camp/hitting-clinic-march-23rd-2025/
LOCATION:Scottsdale Batting Cages\, 7498 E Monte Cristo Ave\, Scottsdale\, AZ\, 85260\, United States
CATEGORIES:Baseball Clinics,Hitting Clinic
END:VEVENT
BEGIN:VEVENT
DTSTART;TZID=America/Phoenix:20250316T090000
DTEND;TZID=America/Phoenix:20250316T110000
DTSTAMP:20260423T144247
CREATED:20250219T220252Z
LAST-MODIFIED:20250219T220252Z
UID:18522-1742115600-1742122800@chadmoellerbaseball.com
SUMMARY:Hitting Clinic | March 16th\, 2025
DESCRIPTION:This Hitting Clinic is for boys aged 7-14. The goal of the Clinic is for the boys to have fun while learning proper fundamentals and Hitting Skills. The Clinic Instruction is led by Chad Moeller and his team of former MLB players\, former and current Minor League players\, and former and current College players.
URL:https://chadmoellerbaseball.com/clinic-or-camp/hitting-clinic-march-16th-2025/
LOCATION:Scottsdale Batting Cages\, 7498 E Monte Cristo Ave\, Scottsdale\, AZ\, 85260\, United States
CATEGORIES:Baseball Clinics,Hitting Clinic
END:VEVENT
BEGIN:VEVENT
DTSTART;TZID=America/Phoenix:20250302T090000
DTEND;TZID=America/Phoenix:20250302T110000
DTSTAMP:20260423T144247
CREATED:20250219T221835Z
LAST-MODIFIED:20250219T221835Z
UID:18531-1740906000-1740913200@chadmoellerbaseball.com
SUMMARY:Catcher Clinic | March 2nd\, 2025
DESCRIPTION:This Catcher Clinic is for boys 7-13 and is led by World Series Winning MLB Catcher Chad Moeller. The goal of this Clinic is for young players to learn the fundamentals of playing the position of Catcher\, including blocking\, receiving\, throwing and footwork.
URL:https://chadmoellerbaseball.com/clinic-or-camp/catcher-clinic-march-2nd-2025/
LOCATION:Scottsdale Batting Cages\, 7498 E Monte Cristo Ave\, Scottsdale\, AZ\, 85260\, United States
CATEGORIES:Baseball Clinics,Catching Clinic
END:VEVENT
BEGIN:VEVENT
DTSTART;TZID=America/Phoenix:20250302T090000
DTEND;TZID=America/Phoenix:20250302T110000
DTSTAMP:20260423T144247
CREATED:20250219T221510Z
LAST-MODIFIED:20250219T221510Z
UID:18528-1740906000-1740913200@chadmoellerbaseball.com
SUMMARY:Pitching Clinic | March 2nd\, 2025
DESCRIPTION:Get ready to take your pitching skills to the next level at our dynamic Pitcher Clinic! Led by MLB baseball pros and top-notch instructors\, this clinic is designed to elevate every aspect of your game. From breaking down pitching mechanics to one-on-one personalized coaching\, you’ll gain the tools and techniques to dominate on the mound. With a maximum coach-to-player ratio of 1:6\, you’ll get the attention you need to refine your skills and build confidence. Don’t miss this chance to train like a pro and unleash your full potential!
URL:https://chadmoellerbaseball.com/clinic-or-camp/pitching-clinic-march-2nd-2025/
LOCATION:Scottsdale Batting Cages\, 7498 E Monte Cristo Ave\, Scottsdale\, AZ\, 85260\, United States
CATEGORIES:Baseball Clinics,Pitching Clinic
END:VEVENT
BEGIN:VEVENT
DTSTART;TZID=America/Phoenix:20250223T090000
DTEND;TZID=America/Phoenix:20250223T110000
DTSTAMP:20260423T144247
CREATED:20250109T000814Z
LAST-MODIFIED:20250109T000814Z
UID:15937-1740301200-1740308400@chadmoellerbaseball.com
SUMMARY:Hitting Clinic | February 23\, 2025
DESCRIPTION:This Hitting Clinic is for boys aged 7-14. The goal of the Clinic is for the boys to have fun while learning proper fundamentals and Hitting Skills. The Clinic Instruction is led by Chad Moeller and his team of former MLB players\, former and current Minor League players\, and former and current College players.
URL:https://chadmoellerbaseball.com/clinic-or-camp/hitting-clinic-february-23-2025/
LOCATION:Scottsdale Batting Cages\, 7498 E Monte Cristo Ave\, Scottsdale\, AZ\, 85260\, United States
CATEGORIES:Baseball Clinics,Hitting Clinic
END:VEVENT
BEGIN:VEVENT
DTSTART;TZID=America/Phoenix:20250202T090000
DTEND;TZID=America/Phoenix:20250202T110000
DTSTAMP:20260423T144247
CREATED:20250127T170100Z
LAST-MODIFIED:20250127T170100Z
UID:18070-1738486800-1738494000@chadmoellerbaseball.com
SUMMARY:Pitching Clinic | February 2nd\, 2025
DESCRIPTION:Get ready to take your pitching skills to the next level at our dynamic Pitcher Clinic! Led by MLB baseball pros and top-notch instructors\, this clinic is designed to elevate every aspect of your game. From breaking down pitching mechanics to one-on-one personalized coaching\, you’ll gain the tools and techniques to dominate on the mound. With a maximum coach-to-player ratio of 1:6\, you’ll get the attention you need to refine your skills and build confidence. Don’t miss this chance to train like a pro and unleash your full potential!
URL:https://chadmoellerbaseball.com/clinic-or-camp/pitching-clinic-february-2nd-2025/
LOCATION:Scottsdale Batting Cages\, 7498 E Monte Cristo Ave\, Scottsdale\, AZ\, 85260\, United States
CATEGORIES:Baseball Clinics,Pitching Clinic
END:VEVENT
BEGIN:VEVENT
DTSTART;TZID=America/Phoenix:20250202T090000
DTEND;TZID=America/Phoenix:20250202T110000
DTSTAMP:20260423T144247
CREATED:20250109T160452Z
LAST-MODIFIED:20250109T164412Z
UID:15934-1738486800-1738494000@chadmoellerbaseball.com
SUMMARY:Catcher Clinic | February 2\, 2025
DESCRIPTION:This Catcher Clinic is for boys 7-13 and is led by World Series Winning MLB Catcher Chad Moeller. The goal of this Clinic is for young players to learn the fundamentals of playing the position of Catcher\, including blocking\, receiving\, throwing and footwork.
URL:https://chadmoellerbaseball.com/clinic-or-camp/catcher-clinic-february-2-2025/
LOCATION:Scottsdale Batting Cages\, 7498 E Monte Cristo Ave\, Scottsdale\, AZ\, 85260\, United States
CATEGORIES:Baseball Clinics,Catching Clinic
END:VEVENT
BEGIN:VEVENT
DTSTART;TZID=America/Phoenix:20250126T090000
DTEND;TZID=America/Phoenix:20250126T110000
DTSTAMP:20260423T144247
CREATED:20250109T160316Z
LAST-MODIFIED:20250109T164705Z
UID:15931-1737882000-1737889200@chadmoellerbaseball.com
SUMMARY:Hitting Clinic | January 26\, 2025
DESCRIPTION:This Hitting Clinic is for boys aged 7-14. The goal of the Clinic is for the boys to have fun while learning proper fundamentals and Hitting Skills. The Clinic Instruction is led by Chad Moeller and his team of former MLB players\, former and current Minor League players\, and former and current College players.
URL:https://chadmoellerbaseball.com/clinic-or-camp/hitting-clinic-january-26-2025/
LOCATION:Scottsdale Batting Cages\, 7498 E Monte Cristo Ave\, Scottsdale\, AZ\, 85260\, United States
CATEGORIES:Baseball Clinics,Hitting Clinic
END:VEVENT
BEGIN:VEVENT
DTSTART;TZID=America/Phoenix:20241208T090000
DTEND;TZID=America/Phoenix:20241208T110000
DTSTAMP:20260423T144247
CREATED:20241122T191644Z
LAST-MODIFIED:20241122T191644Z
UID:15815-1733648400-1733655600@chadmoellerbaseball.com
SUMMARY:Hitting Clinic | December 8th\, 2024
DESCRIPTION:This Hitting Clinic is for boys aged 7-14. The goal of the Clinic is for the boys to have fun while learning proper fundamentals and Hitting Skills. The Clinic Instruction is led by Chad Moeller and his team of former MLB players\, former and current Minor League players\, and former and current College players.
URL:https://chadmoellerbaseball.com/clinic-or-camp/hitting-clinic-december-8th-2024/
LOCATION:Scottsdale Batting Cages\, 7498 E Monte Cristo Ave\, Scottsdale\, AZ\, 85260\, United States
CATEGORIES:Baseball Clinics,Catching Clinic
END:VEVENT
BEGIN:VEVENT
DTSTART;TZID=America/Phoenix:20241124T090000
DTEND;TZID=America/Phoenix:20241124T110000
DTSTAMP:20260423T144247
CREATED:20241024T155132Z
LAST-MODIFIED:20241024T155332Z
UID:15715-1732438800-1732446000@chadmoellerbaseball.com
SUMMARY:Hitting Clinic | November 24th\, 2024
DESCRIPTION:This Hitting Clinic is for boys aged 7-14. The goal of the Clinic is for the boys to have fun while learning proper fundamentals and Hitting Skills. The Clinic Instruction is led by Chad Moeller and his team of former MLB players\, former and current Minor League players\, and former and current College players.
URL:https://chadmoellerbaseball.com/clinic-or-camp/november-24th-2024/
LOCATION:Scottsdale Batting Cages\, 7498 E Monte Cristo Ave\, Scottsdale\, AZ\, 85260\, United States
CATEGORIES:Baseball Clinics,Hitting Clinic
END:VEVENT
BEGIN:VEVENT
DTSTART;TZID=America/Phoenix:20241117T090000
DTEND;TZID=America/Phoenix:20241117T110000
DTSTAMP:20260423T144247
CREATED:20241024T160158Z
LAST-MODIFIED:20241107T174409Z
UID:15722-1731834000-1731841200@chadmoellerbaseball.com
SUMMARY:Pitching Clinic | November 17th\, 2024
DESCRIPTION:This Pitcher Clinic is led by 17-year Baseball Pro and premiere instructor Stephen Randolph. Steve has earned the reputation of being Arizona’s best youth pitching instructor. Attendees will work on the breakdown of the mechanics of pitching and receive one-on-one instruction from Steve. Coach to player ratio is never more than 1:6 for all Chad Moeller Baseball Clinics\, so all attendees receive personal attention.
URL:https://chadmoellerbaseball.com/clinic-or-camp/pitching-clinic-november-11th-2024/
LOCATION:Scottsdale Batting Cages\, 7498 E Monte Cristo Ave\, Scottsdale\, AZ\, 85260\, United States
CATEGORIES:Baseball Clinics,Pitching Clinic
END:VEVENT
BEGIN:VEVENT
DTSTART;TZID=America/Phoenix:20241117T090000
DTEND;TZID=America/Phoenix:20241117T110000
DTSTAMP:20260423T144247
CREATED:20241024T155734Z
LAST-MODIFIED:20241024T155734Z
UID:15719-1731834000-1731841200@chadmoellerbaseball.com
SUMMARY:Catcher Clinic | November 17th\, 2024
DESCRIPTION:This Catcher Clinic is for boys 7-13 and is led by World Series Winning MLB Catcher Chad Moeller. The goal of this Clinic is for young players to learn the fundamentals of playing the position of Catcher\, including blocking\, receiving\, throwing and footwork.
URL:https://chadmoellerbaseball.com/clinic-or-camp/catcher-clinic-november-17th-2024/
LOCATION:Scottsdale Batting Cages\, 7498 E Monte Cristo Ave\, Scottsdale\, AZ\, 85260\, United States
CATEGORIES:Baseball Clinics,Catching Clinic
END:VEVENT
BEGIN:VEVENT
DTSTART;TZID=America/Phoenix:20241110T090000
DTEND;TZID=America/Phoenix:20241110T110000
DTSTAMP:20260423T144247
CREATED:20241024T154804Z
LAST-MODIFIED:20241024T154804Z
UID:15712-1731229200-1731236400@chadmoellerbaseball.com
SUMMARY:Hitting Clinic | November 10th\, 2024
DESCRIPTION:This Hitting Clinic is for boys aged 7-14. The goal of the Clinic is for the boys to have fun while learning proper fundamentals and Hitting Skills. The Clinic Instruction is led by Chad Moeller and his team of former MLB players\, former and current Minor League players\, and former and current College players.
URL:https://chadmoellerbaseball.com/clinic-or-camp/hitting-clinic-november-10th-2024/
LOCATION:Scottsdale Batting Cages\, 7498 E Monte Cristo Ave\, Scottsdale\, AZ\, 85260\, United States
CATEGORIES:Baseball Clinics,Hitting Clinic
END:VEVENT
BEGIN:VEVENT
DTSTART;TZID=America/Phoenix:20241027T090000
DTEND;TZID=America/Phoenix:20241027T110000
DTSTAMP:20260423T144247
CREATED:20240916T195137Z
LAST-MODIFIED:20240916T195137Z
UID:15651-1730019600-1730026800@chadmoellerbaseball.com
SUMMARY:Hitting Clinic | October 27th\, 2024
DESCRIPTION:This Hitting Clinic is for boys aged 7-14. The goal of the Clinic is for the boys to have fun while learning proper fundamentals and Hitting Skills. The Clinic Instruction is led by Chad Moeller and his team of former MLB players\, former and current Minor League players\, and former and current College players.
URL:https://chadmoellerbaseball.com/clinic-or-camp/hitting-clinic-october-27th-2024/
LOCATION:Scottsdale Batting Cages\, 7498 E Monte Cristo Ave\, Scottsdale\, AZ\, 85260\, United States
CATEGORIES:Baseball Clinics,Hitting Clinic
END:VEVENT
END:VCALENDAR