BEGIN:VCALENDAR
VERSION:2.0
PRODID:-//Chad Moeller Baseball - ECPv6.15.20//NONSGML v1.0//EN
CALSCALE:GREGORIAN
METHOD:PUBLISH
X-ORIGINAL-URL:https://chadmoellerbaseball.com
X-WR-CALDESC:Events for Chad Moeller Baseball
REFRESH-INTERVAL;VALUE=DURATION:PT1H
X-Robots-Tag:noindex
X-PUBLISHED-TTL:PT1H
BEGIN:VTIMEZONE
TZID:America/Phoenix
BEGIN:STANDARD
TZOFFSETFROM:-0700
TZOFFSETTO:-0700
TZNAME:MST
DTSTART:20210101T000000
END:STANDARD
END:VTIMEZONE
BEGIN:VEVENT
DTSTART;TZID=America/Phoenix:20260419T090000
DTEND;TZID=America/Phoenix:20260419T110000
DTSTAMP:20260423T130924
CREATED:20260326T144217Z
LAST-MODIFIED:20260419T010715Z
UID:21734-1776589200-1776596400@chadmoellerbaseball.com
SUMMARY:Pitching Clinic | April 19th\, 2026
DESCRIPTION:Get ready to take your pitching skills to the next level at our dynamic Pitcher Clinic! Led by 17-year MLB Pitcher & AZ top-rated instructor Stephen Randolph\, this clinic is designed to elevate every aspect of your game. From breaking down pitching mechanics to one-on-one personalized coaching\, you’ll gain the tools and techniques to dominate on the mound. With a maximum coach-to-player ratio of 1:6\, you’ll get the attention you need to refine your skills and build confidence. Don’t miss this chance to train like a pro and unleash your full potential!
URL:https://chadmoellerbaseball.com/clinic-or-camp/pitching-clinic-april-19th-2026/
LOCATION:Scottsdale Batting Cages\, 7498 E Monte Cristo Ave\, Scottsdale\, AZ\, 85260\, United States
CATEGORIES:Baseball Clinics,Pitching Clinic
END:VEVENT
BEGIN:VEVENT
DTSTART;TZID=America/Phoenix:20260308T090000
DTEND;TZID=America/Phoenix:20260308T110000
DTSTAMP:20260423T130924
CREATED:20260223T174951Z
LAST-MODIFIED:20260223T174951Z
UID:21590-1772960400-1772967600@chadmoellerbaseball.com
SUMMARY:Pitching Clinic | March 8th\, 2026
DESCRIPTION:Get ready to take your pitching skills to the next level at our dynamic Pitcher Clinic! Led by 17-year MLB Pitcher & AZ top-rated instructor Stephen Randolph\, this clinic is designed to elevate every aspect of your game. From breaking down pitching mechanics to one-on-one personalized coaching\, you’ll gain the tools and techniques to dominate on the mound. With a maximum coach-to-player ratio of 1:6\, you’ll get the attention you need to refine your skills and build confidence. Don’t miss this chance to train like a pro and unleash your full potential!
URL:https://chadmoellerbaseball.com/clinic-or-camp/pitching-clinic-march-8th-2026/
LOCATION:Scottsdale Batting Cages\, 7498 E Monte Cristo Ave\, Scottsdale\, AZ\, 85260\, United States
CATEGORIES:Baseball Clinics,Pitching Clinic
END:VEVENT
BEGIN:VEVENT
DTSTART;TZID=America/Phoenix:20260201T090000
DTEND;TZID=America/Phoenix:20260201T110000
DTSTAMP:20260423T130925
CREATED:20260116T172737Z
LAST-MODIFIED:20260116T172737Z
UID:21443-1769936400-1769943600@chadmoellerbaseball.com
SUMMARY:Pitching Clinic | February 1st\, 2026
DESCRIPTION:Get ready to take your pitching skills to the next level at our dynamic Pitcher Clinic! Led by 17-year MLB Pitcher & AZ top-rated instructor Stephen Randolph\, this clinic is designed to elevate every aspect of your game. From breaking down pitching mechanics to one-on-one personalized coaching\, you’ll gain the tools and techniques to dominate on the mound. With a maximum coach-to-player ratio of 1:6\, you’ll get the attention you need to refine your skills and build confidence. Don’t miss this chance to train like a pro and unleash your full potential!
URL:https://chadmoellerbaseball.com/clinic-or-camp/pitching-clinic-february-1st-2026/
LOCATION:Scottsdale Batting Cages\, 7498 E Monte Cristo Ave\, Scottsdale\, AZ\, 85260\, United States
CATEGORIES:Baseball Clinics,Pitching Clinic
END:VEVENT
BEGIN:VEVENT
DTSTART;TZID=America/Phoenix:20260111T090000
DTEND;TZID=America/Phoenix:20260111T110000
DTSTAMP:20260423T130925
CREATED:20260105T190431Z
LAST-MODIFIED:20260105T190431Z
UID:21374-1768122000-1768129200@chadmoellerbaseball.com
SUMMARY:Pitching Clinic | January 11th\, 2026
DESCRIPTION:Get ready to take your pitching skills to the next level at our dynamic Pitcher Clinic! Led by 17-year MLB Pitcher & AZ top-rated instructor Stephen Randolph\, this clinic is designed to elevate every aspect of your game. From breaking down pitching mechanics to one-on-one personalized coaching\, you’ll gain the tools and techniques to dominate on the mound. With a maximum coach-to-player ratio of 1:6\, you’ll get the attention you need to refine your skills and build confidence. Don’t miss this chance to train like a pro and unleash your full potential!
URL:https://chadmoellerbaseball.com/clinic-or-camp/pitching-clinic-january-11th-2026/
LOCATION:Scottsdale Batting Cages\, 7498 E Monte Cristo Ave\, Scottsdale\, AZ\, 85260\, United States
CATEGORIES:Baseball Clinics,Pitching Clinic
END:VEVENT
BEGIN:VEVENT
DTSTART;TZID=America/Phoenix:20251109T090000
DTEND;TZID=America/Phoenix:20251109T110000
DTSTAMP:20260423T130925
CREATED:20250930T170959Z
LAST-MODIFIED:20250930T170959Z
UID:20950-1762678800-1762686000@chadmoellerbaseball.com
SUMMARY:Pitching Clinic | November 9th\, 2025
DESCRIPTION:Get ready to take your pitching skills to the next level at our dynamic Pitcher Clinic! Led by 17-year MLB Pitcher & AZ top-rated instructor Stephen Randolph\, this clinic is designed to elevate every aspect of your game. From breaking down pitching mechanics to one-on-one personalized coaching\, you’ll gain the tools and techniques to dominate on the mound. With a maximum coach-to-player ratio of 1:6\, you’ll get the attention you need to refine your skills and build confidence. Don’t miss this chance to train like a pro and unleash your full potential!
URL:https://chadmoellerbaseball.com/clinic-or-camp/pitching-clinic-november-9th-2025/
LOCATION:Scottsdale Batting Cages\, 7498 E Monte Cristo Ave\, Scottsdale\, AZ\, 85260\, United States
CATEGORIES:Baseball Clinics,Pitching Clinic
END:VEVENT
BEGIN:VEVENT
DTSTART;TZID=America/Phoenix:20251026T090000
DTEND;TZID=America/Phoenix:20251026T110000
DTSTAMP:20260423T130925
CREATED:20250930T175314Z
LAST-MODIFIED:20250930T175314Z
UID:20959-1761469200-1761476400@chadmoellerbaseball.com
SUMMARY:Pitching Clinic | October 26th\, 2025
DESCRIPTION:Get ready to take your pitching skills to the next level at our dynamic Pitcher Clinic! Led by 17-year MLB Pitcher & AZ top-rated instructor Stephen Randolph\, this clinic is designed to elevate every aspect of your game. From breaking down pitching mechanics to one-on-one personalized coaching\, you’ll gain the tools and techniques to dominate on the mound. With a maximum coach-to-player ratio of 1:6\, you’ll get the attention you need to refine your skills and build confidence. Don’t miss this chance to train like a pro and unleash your full potential!
URL:https://chadmoellerbaseball.com/clinic-or-camp/pitching-clinic-october-26th-2025/
LOCATION:Scottsdale Batting Cages\, 7498 E Monte Cristo Ave\, Scottsdale\, AZ\, 85260\, United States
CATEGORIES:Baseball Clinics,Pitching Clinic
END:VEVENT
BEGIN:VEVENT
DTSTART;TZID=America/Phoenix:20250928T090000
DTEND;TZID=America/Phoenix:20250928T110000
DTSTAMP:20260423T130925
CREATED:20250823T155719Z
LAST-MODIFIED:20250823T155719Z
UID:20847-1759050000-1759057200@chadmoellerbaseball.com
SUMMARY:Pitching Clinic | September 28th\, 2025
DESCRIPTION:Get ready to take your pitching skills to the next level at our dynamic Pitcher Clinic! Led by 17-year MLB Pitcher & AZ top-rated instructor Stephen Randolph\, this clinic is designed to elevate every aspect of your game. From breaking down pitching mechanics to one-on-one personalized coaching\, you’ll gain the tools and techniques to dominate on the mound. With a maximum coach-to-player ratio of 1:6\, you’ll get the attention you need to refine your skills and build confidence. Don’t miss this chance to train like a pro and unleash your full potential!
URL:https://chadmoellerbaseball.com/clinic-or-camp/pitching-clinic-september-28th-2025/
LOCATION:Scottsdale Batting Cages\, 7498 E Monte Cristo Ave\, Scottsdale\, AZ\, 85260\, United States
CATEGORIES:Baseball Clinics,Pitching Clinic
END:VEVENT
BEGIN:VEVENT
DTSTART;TZID=America/Phoenix:20250824T090000
DTEND;TZID=America/Phoenix:20250824T110000
DTSTAMP:20260423T130925
CREATED:20250722T153709Z
LAST-MODIFIED:20250823T161709Z
UID:20089-1756026000-1756033200@chadmoellerbaseball.com
SUMMARY:Pitching Clinic | August 24th\, 2025
DESCRIPTION:The August Pitching Clinic is Sold Out!\n\nGrab your spot now for the September Pitching Clinic: https://chadmoellerbaseball.com/clinic-or-camp/pitching-clinic-september-28th-2025/\nGet ready to take your pitching skills to the next level at our dynamic Pitcher Clinic! Led by 17-year MLB Pitcher & AZ top-rated instructor Stephen Randolph\, this clinic is designed to elevate every aspect of your game. From breaking down pitching mechanics to one-on-one personalized coaching\, you’ll gain the tools and techniques to dominate on the mound. With a maximum coach-to-player ratio of 1:6\, you’ll get the attention you need to refine your skills and build confidence. Don’t miss this chance to train like a pro and unleash your full potential!
URL:https://chadmoellerbaseball.com/clinic-or-camp/pitching-clinic-august-24th-2025/
LOCATION:Scottsdale Batting Cages\, 7498 E Monte Cristo Ave\, Scottsdale\, AZ\, 85260\, United States
CATEGORIES:Baseball Clinics,Pitching Clinic
END:VEVENT
BEGIN:VEVENT
DTSTART;TZID=America/Phoenix:20250413T090000
DTEND;TZID=America/Phoenix:20250413T110000
DTSTAMP:20260423T130925
CREATED:20250219T215339Z
LAST-MODIFIED:20250324T205621Z
UID:18691-1744534800-1744542000@chadmoellerbaseball.com
SUMMARY:Pitching Clinic | April 13th\, 2025
DESCRIPTION:Get ready to take your pitching skills to the next level at our dynamic Pitcher Clinic! Led by 17-year MLB Pitcher & AZ top-rated instructor Stephen Randolph\, this clinic is designed to elevate every aspect of your game. From breaking down pitching mechanics to one-on-one personalized coaching\, you’ll gain the tools and techniques to dominate on the mound. With a maximum coach-to-player ratio of 1:6\, you’ll get the attention you need to refine your skills and build confidence. Don’t miss this chance to train like a pro and unleash your full potential!
URL:https://chadmoellerbaseball.com/clinic-or-camp/pitching-clinic-april-13th-2025/
LOCATION:Scottsdale Batting Cages\, 7498 E Monte Cristo Ave\, Scottsdale\, AZ\, 85260\, United States
CATEGORIES:Baseball Clinics,Pitching Clinic
END:VEVENT
BEGIN:VEVENT
DTSTART;TZID=America/Phoenix:20250330T090000
DTEND;TZID=America/Phoenix:20250330T110000
DTSTAMP:20260423T130925
CREATED:20250219T215654Z
LAST-MODIFIED:20250219T223546Z
UID:18537-1743325200-1743332400@chadmoellerbaseball.com
SUMMARY:Pitching Clinic | March 30th\, 2025
DESCRIPTION:Get ready to take your pitching skills to the next level at our dynamic Pitcher Clinic! Led by MLB baseball pros and top-notch instructors\, this clinic is designed to elevate every aspect of your game. From breaking down pitching mechanics to one-on-one personalized coaching\, you’ll gain the tools and techniques to dominate on the mound. With a maximum coach-to-player ratio of 1:6\, you’ll get the attention you need to refine your skills and build confidence. Don’t miss this chance to train like a pro and unleash your full potential!
URL:https://chadmoellerbaseball.com/clinic-or-camp/pitching-clinic-march-30th-2025/
LOCATION:Scottsdale Batting Cages\, 7498 E Monte Cristo Ave\, Scottsdale\, AZ\, 85260\, United States
CATEGORIES:Baseball Clinics,Pitching Clinic
END:VEVENT
BEGIN:VEVENT
DTSTART;TZID=America/Phoenix:20250302T090000
DTEND;TZID=America/Phoenix:20250302T110000
DTSTAMP:20260423T130925
CREATED:20250219T221510Z
LAST-MODIFIED:20250219T221510Z
UID:18528-1740906000-1740913200@chadmoellerbaseball.com
SUMMARY:Pitching Clinic | March 2nd\, 2025
DESCRIPTION:Get ready to take your pitching skills to the next level at our dynamic Pitcher Clinic! Led by MLB baseball pros and top-notch instructors\, this clinic is designed to elevate every aspect of your game. From breaking down pitching mechanics to one-on-one personalized coaching\, you’ll gain the tools and techniques to dominate on the mound. With a maximum coach-to-player ratio of 1:6\, you’ll get the attention you need to refine your skills and build confidence. Don’t miss this chance to train like a pro and unleash your full potential!
URL:https://chadmoellerbaseball.com/clinic-or-camp/pitching-clinic-march-2nd-2025/
LOCATION:Scottsdale Batting Cages\, 7498 E Monte Cristo Ave\, Scottsdale\, AZ\, 85260\, United States
CATEGORIES:Baseball Clinics,Pitching Clinic
END:VEVENT
BEGIN:VEVENT
DTSTART;TZID=America/Phoenix:20250202T090000
DTEND;TZID=America/Phoenix:20250202T110000
DTSTAMP:20260423T130925
CREATED:20250127T170100Z
LAST-MODIFIED:20250127T170100Z
UID:18070-1738486800-1738494000@chadmoellerbaseball.com
SUMMARY:Pitching Clinic | February 2nd\, 2025
DESCRIPTION:Get ready to take your pitching skills to the next level at our dynamic Pitcher Clinic! Led by MLB baseball pros and top-notch instructors\, this clinic is designed to elevate every aspect of your game. From breaking down pitching mechanics to one-on-one personalized coaching\, you’ll gain the tools and techniques to dominate on the mound. With a maximum coach-to-player ratio of 1:6\, you’ll get the attention you need to refine your skills and build confidence. Don’t miss this chance to train like a pro and unleash your full potential!
URL:https://chadmoellerbaseball.com/clinic-or-camp/pitching-clinic-february-2nd-2025/
LOCATION:Scottsdale Batting Cages\, 7498 E Monte Cristo Ave\, Scottsdale\, AZ\, 85260\, United States
CATEGORIES:Baseball Clinics,Pitching Clinic
END:VEVENT
BEGIN:VEVENT
DTSTART;TZID=America/Phoenix:20241117T090000
DTEND;TZID=America/Phoenix:20241117T110000
DTSTAMP:20260423T130925
CREATED:20241024T160158Z
LAST-MODIFIED:20241107T174409Z
UID:15722-1731834000-1731841200@chadmoellerbaseball.com
SUMMARY:Pitching Clinic | November 17th\, 2024
DESCRIPTION:This Pitcher Clinic is led by 17-year Baseball Pro and premiere instructor Stephen Randolph. Steve has earned the reputation of being Arizona’s best youth pitching instructor. Attendees will work on the breakdown of the mechanics of pitching and receive one-on-one instruction from Steve. Coach to player ratio is never more than 1:6 for all Chad Moeller Baseball Clinics\, so all attendees receive personal attention.
URL:https://chadmoellerbaseball.com/clinic-or-camp/pitching-clinic-november-11th-2024/
LOCATION:Scottsdale Batting Cages\, 7498 E Monte Cristo Ave\, Scottsdale\, AZ\, 85260\, United States
CATEGORIES:Baseball Clinics,Pitching Clinic
END:VEVENT
BEGIN:VEVENT
DTSTART;TZID=America/Phoenix:20240825T090000
DTEND;TZID=America/Phoenix:20240825T110000
DTSTAMP:20260423T130925
CREATED:20240806T145555Z
LAST-MODIFIED:20240806T150212Z
UID:15492-1724576400-1724583600@chadmoellerbaseball.com
SUMMARY:Pitching Clinic | August 25\, 2024
DESCRIPTION:This Pitcher Clinic is led by 17-year Baseball Pro and premiere instructor Stephen Randolph. Steve has earned the reputation of being Arizona’s best youth pitching instructor. Attendees will work on the breakdown of the mechanics of pitching and receive one-on-one instruction from Steve. Coach to player ratio is never more than 1:6 for all Chad Moeller Baseball Clinics\, so all attendees receive personal attention.
URL:https://chadmoellerbaseball.com/clinic-or-camp/pitching-clinic-august-25-2024/
LOCATION:Scottsdale Batting Cages\, 7498 E Monte Cristo Ave\, Scottsdale\, AZ\, 85260\, United States
CATEGORIES:Baseball Clinics,Pitching Clinic
END:VEVENT
BEGIN:VEVENT
DTSTART;TZID=America/Phoenix:20240407T090000
DTEND;TZID=America/Phoenix:20240407T110000
DTSTAMP:20260423T130925
CREATED:20240402T023935Z
LAST-MODIFIED:20240402T023935Z
UID:14785-1712480400-1712487600@chadmoellerbaseball.com
SUMMARY:Pitching Clinic | April 7th\, 2024
DESCRIPTION:This Pitcher Clinic is led by 17-year Baseball Pro and premiere instructor Stephen Randolph. Steve has earned the reputation of being Arizona’s best youth pitching instructor. Attendees will work on the breakdown of the mechanics of pitching and receive one-on-one instruction from Steve. Coach to player ratio is never more than 1:6 for all Chad Moeller Baseball Clinics\, so all attendees receive personal attention.
URL:https://chadmoellerbaseball.com/clinic-or-camp/pitching-clinic-april-7th-2024/
LOCATION:Scottsdale Batting Cages\, 7498 E Monte Cristo Ave\, Scottsdale\, AZ\, 85260\, United States
CATEGORIES:Baseball Clinics,Pitching Clinic
END:VEVENT
BEGIN:VEVENT
DTSTART;TZID=America/Phoenix:20240317T090000
DTEND;TZID=America/Phoenix:20240317T110000
DTSTAMP:20260423T130925
CREATED:20240221T174615Z
LAST-MODIFIED:20240311T211543Z
UID:14554-1710666000-1710673200@chadmoellerbaseball.com
SUMMARY:Pitching Clinic | March 17\, 2024
DESCRIPTION:This Pitcher Clinic is led by 17-year Baseball Pro and premiere instructor Stephen Randolph. Steve has earned the reputation of being Arizona’s best youth pitching instructor. Attendees will work on the breakdown of the mechanics of pitching and receive one-on-one instruction from Steve. Coach to player ratio is never more than 1:6 for all Chad Moeller Baseball Clinics\, so all attendees receive personal attention.
URL:https://chadmoellerbaseball.com/clinic-or-camp/pitching-clinic-march-17-2024/
LOCATION:Scottsdale Batting Cages\, 7498 E Monte Cristo Ave\, Scottsdale\, AZ\, 85260\, United States
CATEGORIES:Baseball Clinics,Pitching Clinic
END:VEVENT
BEGIN:VEVENT
DTSTART;TZID=America/Phoenix:20240128T090000
DTEND;TZID=America/Phoenix:20240128T110000
DTSTAMP:20260423T130925
CREATED:20240110T181332Z
LAST-MODIFIED:20240110T181332Z
UID:14411-1706432400-1706439600@chadmoellerbaseball.com
SUMMARY:Pitching Clinic | January 28th\, 2024
DESCRIPTION:This Pitcher Clinic is led by 17-year Baseball Pro and premiere instructor Stephen Randolph. Steve has earned the reputation of being Arizona’s best youth pitching instructor. Attendees will work on the breakdown of the mechanics of pitching and receive one-on-one instruction from Steve. Coach to player ratio is never more than 1:6 for all Chad Moeller Baseball Clinics\, so all attendees receive personal attention.
URL:https://chadmoellerbaseball.com/clinic-or-camp/pitching-clinic-january-28th-2024/
LOCATION:Scottsdale Batting Cages\, 7498 E Monte Cristo Ave\, Scottsdale\, AZ\, 85260\, United States
CATEGORIES:Baseball Clinics,Pitching Clinic
END:VEVENT
BEGIN:VEVENT
DTSTART;TZID=America/Phoenix:20230820T090000
DTEND;TZID=America/Phoenix:20230820T110000
DTSTAMP:20260423T130925
CREATED:20230807T204747Z
LAST-MODIFIED:20230807T204747Z
UID:14023-1692522000-1692529200@chadmoellerbaseball.com
SUMMARY:Pitcher Clinic | August 20th\, 2023
DESCRIPTION:This Pitcher Clinic is led by 17-year Baseball Pro and premiere instructor Stephen Randolph. Steve has earned the reputation of being Arizona’s best youth pitching instructor. Attendees will work on the breakdown of the mechanics of pitching and receive one-on-one instruction from Steve. Coach to player ratio is never more than 1:6 for all Chad Moeller Baseball Clinics\, so all attendees receive personal attention.
URL:https://chadmoellerbaseball.com/clinic-or-camp/pitcher-clinic-august-20th-2023/
LOCATION:Scottsdale Batting Cages\, 7498 E Monte Cristo Ave\, Scottsdale\, AZ\, 85260\, United States
CATEGORIES:Baseball Clinics,Pitching Clinic
END:VEVENT
BEGIN:VEVENT
DTSTART;TZID=America/Phoenix:20220911T090000
DTEND;TZID=America/Phoenix:20220911T110000
DTSTAMP:20260423T130925
CREATED:20220823T173455Z
LAST-MODIFIED:20220823T173455Z
UID:12811-1662886800-1662894000@chadmoellerbaseball.com
SUMMARY:Pitching Clinic | September 11th\, 2022
DESCRIPTION:This Pitcher Clinic is led by 17-year Baseball Pro and premiere instructor Stephen Randolph. Steve has earned the reputation of being the best youth pitching instructor in Arizona. Attendees will work on the breakdown of the mechanics of pitching and receive one-on-one instruction from Steve. Coach to player ratio is never more than 1:6 for all Chad Moeller Baseball Clinics\, so all attendees receive personal attention.
URL:https://chadmoellerbaseball.com/clinic-or-camp/pitching-clinic-september-11th-2022/
LOCATION:Scottsdale Batting Cages\, 7498 E Monte Cristo Ave\, Scottsdale\, AZ\, 85260\, United States
CATEGORIES:Baseball Clinics,Pitching Clinic
END:VEVENT
END:VCALENDAR