BEGIN:VCALENDAR
VERSION:2.0
PRODID:-//Chad Moeller Baseball - ECPv6.15.20//NONSGML v1.0//EN
CALSCALE:GREGORIAN
METHOD:PUBLISH
X-ORIGINAL-URL:https://chadmoellerbaseball.com
X-WR-CALDESC:Events for Chad Moeller Baseball
REFRESH-INTERVAL;VALUE=DURATION:PT1H
X-Robots-Tag:noindex
X-PUBLISHED-TTL:PT1H
BEGIN:VTIMEZONE
TZID:America/Phoenix
BEGIN:STANDARD
TZOFFSETFROM:-0700
TZOFFSETTO:-0700
TZNAME:MST
DTSTART:20250101T000000
END:STANDARD
END:VTIMEZONE
BEGIN:VEVENT
DTSTART;TZID=America/Phoenix:20260426T090000
DTEND;TZID=America/Phoenix:20260426T110000
DTSTAMP:20260423T083610
CREATED:20260326T143619Z
LAST-MODIFIED:20260326T143619Z
UID:21728-1777194000-1777201200@chadmoellerbaseball.com
SUMMARY:Hitting Clinic | April 26th\, 2026
DESCRIPTION:Step up to the plate at our Hitting Clinic designed for boys ages 7–14! This high-energy clinic combines fun with focused instruction to help young players build strong fundamentals and sharpen their hitting skills. Led by former MLB catcher Chad Moeller\, along with an elite team of former and current Minor League and College players\, this is a unique opportunity to learn from the pros and take your game to the next level.
URL:https://chadmoellerbaseball.com/clinic-or-camp/hitting-clinic-april-26th-2026/
LOCATION:Scottsdale Batting Cages\, 7498 E Monte Cristo Ave\, Scottsdale\, AZ\, 85260\, United States
CATEGORIES:Baseball Clinics,Hitting Clinic
END:VEVENT
BEGIN:VEVENT
DTSTART;TZID=America/Phoenix:20260601T090000
DTEND;TZID=America/Phoenix:20260604T140000
DTSTAMP:20260423T083610
CREATED:20260209T142041Z
LAST-MODIFIED:20260209T142041Z
UID:21524-1780304400-1780581600@chadmoellerbaseball.com
SUMMARY:Summer Baseball Camp |  June 1st - 4th\, 2026
DESCRIPTION:** Earlybird Discount: Register before May 1st and save $70 per session! **\n\n  \nAll Camp Attendees get a FREE Chad Moeller Baseball T-Shirt! \nSummer Break Baseball Skills Camp\nJune 1st through June 4th\n9:00am-2pm each day\nAge: 7-14 Years of Age\nSKILLS EMPHASIS: Hitting\, Fielding\, Pitching\, Catching \nGet ready to hit it out of the park at the CMB Summer Baseball Camp! \nWe’re bringing the heat with an action-packed program covering all the bases – From lightning-fast base running to jaw-dropping defensive plays in both the infield and outfield\, we’ve got it all covered. Pitching\, catching\, and hitting will be finely tuned under the guidance of our all-star lineup of coaches. \nThis isn’t your average camp – it’s a journey led by former MLB legends\, Minor League heroes\, and college ball standouts. These pros are here to share their secrets\, fueling a passion for the game while building rock-solid fundamentals. \nWith a coach-to-player ratio of no more than 6-1\, you can bet your lucky glove that every player gets the VIP treatment. Expect personalized attention and top-notch instruction as you level up your game. And when it’s camp game time\, get ready to compete\, have fun\, and show off your skills in thrilling matchups against fellow ballers. \nThis summer\, it’s all about making memories\, having a blast\, and unleashing your inner baseball beast. Join us at the CMB Summer Baseball Camp and let’s knock it out of the park together! ⚾🔥 \n*Please bring a sack lunch and water to each day of Camp
URL:https://chadmoellerbaseball.com/clinic-or-camp/summer-baseball-camp-june-1st-4th-2026/
LOCATION:Scottsdale Batting Cages\, 7498 E Monte Cristo Ave\, Scottsdale\, AZ\, 85260\, United States
CATEGORIES:Baseball Camps,Summer Break Baseball Camp
END:VEVENT
BEGIN:VEVENT
DTSTART;TZID=America/Phoenix:20260608T090000
DTEND;TZID=America/Phoenix:20260611T140000
DTSTAMP:20260423T083610
CREATED:20260209T142504Z
LAST-MODIFIED:20260209T142530Z
UID:21527-1780909200-1781186400@chadmoellerbaseball.com
SUMMARY:Summer Baseball Camp | June 8th - 11th\, 2026
DESCRIPTION:** Earlybird Discount: Register before May 1st and save $70 per session! **\n\n  \nAll Camp Attendees get a FREE Chad Moeller Baseball T-Shirt! \nSummer Break Baseball Skills Camp\nJune 8th through June 11th\n9:00am-2pm each day\nAge: 7-14 Years of Age\nSKILLS EMPHASIS: Hitting\, Fielding\, Pitching\, Catching \nGet ready to hit it out of the park at the CMB Summer Baseball Camp! \nWe’re bringing the heat with an action-packed program covering all the bases – From lightning-fast base running to jaw-dropping defensive plays in both the infield and outfield\, we’ve got it all covered. Pitching\, catching\, and hitting will be finely tuned under the guidance of our all-star lineup of coaches. \nThis isn’t your average camp – it’s a journey led by former MLB legends\, Minor League heroes\, and college ball standouts. These pros are here to share their secrets\, fueling a passion for the game while building rock-solid fundamentals. \nWith a coach-to-player ratio of no more than 6-1\, you can bet your lucky glove that every player gets the VIP treatment. Expect personalized attention and top-notch instruction as you level up your game. And when it’s camp game time\, get ready to compete\, have fun\, and show off your skills in thrilling matchups against fellow ballers. \nThis summer\, it’s all about making memories\, having a blast\, and unleashing your inner baseball beast. Join us at the CMB Summer Baseball Camp and let’s knock it out of the park together! ⚾🔥 \n*Please bring a sack lunch and water to each day of Camp
URL:https://chadmoellerbaseball.com/clinic-or-camp/summer-baseball-camp-june-8th-11th-2026/
LOCATION:Scottsdale Batting Cages\, 7498 E Monte Cristo Ave\, Scottsdale\, AZ\, 85260\, United States
CATEGORIES:Baseball Camps,Summer Break Baseball Camp
END:VEVENT
BEGIN:VEVENT
DTSTART;TZID=America/Phoenix:20260615T090000
DTEND;TZID=America/Phoenix:20260618T140000
DTSTAMP:20260423T083610
CREATED:20260209T143501Z
LAST-MODIFIED:20260209T143501Z
UID:21532-1781514000-1781791200@chadmoellerbaseball.com
SUMMARY:Summer Baseball Camp | June 15th - 18th\, 2026
DESCRIPTION:** Earlybird Discount: Register before May 1st and save $70 per session! **\n\n  \nAll Camp Attendees get a FREE Chad Moeller Baseball T-Shirt! \nSummer Break Baseball Skills Camp\nJune 15th through June 18th\n9:00am-2pm each day\nAge: 7-14 Years of Age\nSKILLS EMPHASIS: Hitting\, Fielding\, Pitching\, Catching \nGet ready to hit it out of the park at the CMB Summer Baseball Camp! \nWe’re bringing the heat with an action-packed program covering all the bases – From lightning-fast base running to jaw-dropping defensive plays in both the infield and outfield\, we’ve got it all covered. Pitching\, catching\, and hitting will be finely tuned under the guidance of our all-star lineup of coaches. \nThis isn’t your average camp – it’s a journey led by former MLB legends\, Minor League heroes\, and college ball standouts. These pros are here to share their secrets\, fueling a passion for the game while building rock-solid fundamentals. \nWith a coach-to-player ratio of no more than 6-1\, you can bet your lucky glove that every player gets the VIP treatment. Expect personalized attention and top-notch instruction as you level up your game. And when it’s camp game time\, get ready to compete\, have fun\, and show off your skills in thrilling matchups against fellow ballers. \nThis summer\, it’s all about making memories\, having a blast\, and unleashing your inner baseball beast. Join us at the CMB Summer Baseball Camp and let’s knock it out of the park together! ⚾🔥 \n*Please bring a sack lunch and water to each day of Camp
URL:https://chadmoellerbaseball.com/clinic-or-camp/summer-baseball-camp-june-15th-18th-2026/
LOCATION:Scottsdale Batting Cages\, 7498 E Monte Cristo Ave\, Scottsdale\, AZ\, 85260\, United States
CATEGORIES:Baseball Camps,Summer Break Baseball Camp
END:VEVENT
BEGIN:VEVENT
DTSTART;TZID=America/Phoenix:20260622T090000
DTEND;TZID=America/Phoenix:20260625T140000
DTSTAMP:20260423T083610
CREATED:20260209T144102Z
LAST-MODIFIED:20260209T144102Z
UID:21535-1782118800-1782396000@chadmoellerbaseball.com
SUMMARY:Summer Baseball Camp | June 22nd - 25th\, 2026
DESCRIPTION:** Earlybird Discount: Register before May 1st and save $70 per session! **\n\n  \nAll Camp Attendees get a FREE Chad Moeller Baseball T-Shirt! \nSummer Break Baseball Skills Camp\nJune 22nd through June 25th\n9:00am-2pm each day\nAge: 7-14 Years of Age\nSKILLS EMPHASIS: Hitting\, Fielding\, Pitching\, Catching \nGet ready to hit it out of the park at the CMB Summer Baseball Camp! \nWe’re bringing the heat with an action-packed program covering all the bases – From lightning-fast base running to jaw-dropping defensive plays in both the infield and outfield\, we’ve got it all covered. Pitching\, catching\, and hitting will be finely tuned under the guidance of our all-star lineup of coaches. \nThis isn’t your average camp – it’s a journey led by former MLB legends\, Minor League heroes\, and college ball standouts. These pros are here to share their secrets\, fueling a passion for the game while building rock-solid fundamentals. \nWith a coach-to-player ratio of no more than 6-1\, you can bet your lucky glove that every player gets the VIP treatment. Expect personalized attention and top-notch instruction as you level up your game. And when it’s camp game time\, get ready to compete\, have fun\, and show off your skills in thrilling matchups against fellow ballers. \nThis summer\, it’s all about making memories\, having a blast\, and unleashing your inner baseball beast. Join us at the CMB Summer Baseball Camp and let’s knock it out of the park together! ⚾🔥 \n*Please bring a sack lunch and water to each day of Camp
URL:https://chadmoellerbaseball.com/clinic-or-camp/summer-baseball-camp-june-22nd-25th-2026/
LOCATION:Scottsdale Batting Cages\, 7498 E Monte Cristo Ave\, Scottsdale\, AZ\, 85260\, United States
CATEGORIES:Baseball Camps,Summer Break Baseball Camp
END:VEVENT
BEGIN:VEVENT
DTSTART;TZID=America/Phoenix:20260629T090000
DTEND;TZID=America/Phoenix:20260702T140000
DTSTAMP:20260423T083610
CREATED:20260209T144651Z
LAST-MODIFIED:20260209T144808Z
UID:21538-1782723600-1783000800@chadmoellerbaseball.com
SUMMARY:Summer Baseball Camp | June 29th - July 2nd\, 2026
DESCRIPTION:** Earlybird Discount: Register before May 1st and save $70 per session! **\n\n  \nAll Camp Attendees get a FREE Chad Moeller Baseball T-Shirt! \nSummer Break Baseball Skills Camp\nJune 29th through July 2nd\n9:00am-2pm each day\nAge: 7-14 Years of Age\nSKILLS EMPHASIS: Hitting\, Fielding\, Pitching\, Catching \nGet ready to hit it out of the park at the CMB Summer Baseball Camp! \nWe’re bringing the heat with an action-packed program covering all the bases – From lightning-fast base running to jaw-dropping defensive plays in both the infield and outfield\, we’ve got it all covered. Pitching\, catching\, and hitting will be finely tuned under the guidance of our all-star lineup of coaches. \nThis isn’t your average camp – it’s a journey led by former MLB legends\, Minor League heroes\, and college ball standouts. These pros are here to share their secrets\, fueling a passion for the game while building rock-solid fundamentals. \nWith a coach-to-player ratio of no more than 6-1\, you can bet your lucky glove that every player gets the VIP treatment. Expect personalized attention and top-notch instruction as you level up your game. And when it’s camp game time\, get ready to compete\, have fun\, and show off your skills in thrilling matchups against fellow ballers. \nThis summer\, it’s all about making memories\, having a blast\, and unleashing your inner baseball beast. Join us at the CMB Summer Baseball Camp and let’s knock it out of the park together! ⚾🔥 \n*Please bring a sack lunch and water to each day of Camp
URL:https://chadmoellerbaseball.com/clinic-or-camp/summer-baseball-camp-june-29th-july-2nd-2026/
LOCATION:Scottsdale Batting Cages\, 7498 E Monte Cristo Ave\, Scottsdale\, AZ\, 85260\, United States
CATEGORIES:Baseball Camps,Summer Break Baseball Camp
END:VEVENT
BEGIN:VEVENT
DTSTART;TZID=America/Phoenix:20260706T090000
DTEND;TZID=America/Phoenix:20260709T140000
DTSTAMP:20260423T083610
CREATED:20260209T145754Z
LAST-MODIFIED:20260209T145754Z
UID:21542-1783328400-1783605600@chadmoellerbaseball.com
SUMMARY:Summer Baseball Camp | July 6th - 9th\, 2026
DESCRIPTION:** Earlybird Discount: Register before May 1st and save $70 per session! **\n\n  \nAll Camp Attendees get a FREE Chad Moeller Baseball T-Shirt! \nSummer Break Baseball Skills Camp\nJuly 6th through July 9th\, 2026\n9:00am-2pm each day\nAge: 7-14 Years of Age\nSKILLS EMPHASIS: Hitting\, Fielding\, Pitching\, Catching \nGet ready to hit it out of the park at the CMB Summer Baseball Camp! \nWe’re bringing the heat with an action-packed program covering all the bases – From lightning-fast base running to jaw-dropping defensive plays in both the infield and outfield\, we’ve got it all covered. Pitching\, catching\, and hitting will be finely tuned under the guidance of our all-star lineup of coaches. \nThis isn’t your average camp – it’s a journey led by former MLB legends\, Minor League heroes\, and college ball standouts. These pros are here to share their secrets\, fueling a passion for the game while building rock-solid fundamentals. \nWith a coach-to-player ratio of no more than 6-1\, you can bet your lucky glove that every player gets the VIP treatment. Expect personalized attention and top-notch instruction as you level up your game. And when it’s camp game time\, get ready to compete\, have fun\, and show off your skills in thrilling matchups against fellow ballers. \nThis summer\, it’s all about making memories\, having a blast\, and unleashing your inner baseball beast. Join us at the CMB Summer Baseball Camp and let’s knock it out of the park together! ⚾🔥 \n*Please bring a sack lunch and water to each day of Camp
URL:https://chadmoellerbaseball.com/clinic-or-camp/summer-baseball-camp-july-6th-9th-2026/
LOCATION:Scottsdale Batting Cages\, 7498 E Monte Cristo Ave\, Scottsdale\, AZ\, 85260\, United States
CATEGORIES:Baseball Camps,Summer Break Baseball Camp
END:VEVENT
BEGIN:VEVENT
DTSTART;TZID=America/Phoenix:20260713T090000
DTEND;TZID=America/Phoenix:20260716T140000
DTSTAMP:20260423T083610
CREATED:20260209T150431Z
LAST-MODIFIED:20260209T150431Z
UID:21545-1783933200-1784210400@chadmoellerbaseball.com
SUMMARY:Summer Baseball Camp | July 13th - 16th\, 2026
DESCRIPTION:** Earlybird Discount: Register before May 1st and save $70 per session! **\n\n  \nAll Camp Attendees get a FREE Chad Moeller Baseball T-Shirt! \nSummer Break Baseball Skills Camp\nJuly 13th through 16th\, 2026\n9:00am-2pm each day\nAge: 7-14 Years of Age\nSKILLS EMPHASIS: Hitting\, Fielding\, Pitching\, Catching \nGet ready to hit it out of the park at the CMB Summer Baseball Camp! \nWe’re bringing the heat with an action-packed program covering all the bases – From lightning-fast base running to jaw-dropping defensive plays in both the infield and outfield\, we’ve got it all covered. Pitching\, catching\, and hitting will be finely tuned under the guidance of our all-star lineup of coaches. \nThis isn’t your average camp – it’s a journey led by former MLB legends\, Minor League heroes\, and college ball standouts. These pros are here to share their secrets\, fueling a passion for the game while building rock-solid fundamentals. \nWith a coach-to-player ratio of no more than 6-1\, you can bet your lucky glove that every player gets the VIP treatment. Expect personalized attention and top-notch instruction as you level up your game. And when it’s camp game time\, get ready to compete\, have fun\, and show off your skills in thrilling matchups against fellow ballers. \nThis summer\, it’s all about making memories\, having a blast\, and unleashing your inner baseball beast. Join us at the CMB Summer Baseball Camp and let’s knock it out of the park together! ⚾🔥 \n*Please bring a sack lunch and water to each day of Camp
URL:https://chadmoellerbaseball.com/clinic-or-camp/summer-baseball-camp-july-13th-16th-2026/
LOCATION:Scottsdale Batting Cages\, 7498 E Monte Cristo Ave\, Scottsdale\, AZ\, 85260\, United States
CATEGORIES:Baseball Camps,Summer Break Baseball Camp
END:VEVENT
BEGIN:VEVENT
DTSTART;TZID=America/Phoenix:20260720T090000
DTEND;TZID=America/Phoenix:20260723T140000
DTSTAMP:20260423T083610
CREATED:20260209T151114Z
LAST-MODIFIED:20260209T151114Z
UID:21548-1784538000-1784815200@chadmoellerbaseball.com
SUMMARY:Summer Baseball Camp | July 20th - 23rd\, 2026
DESCRIPTION:** Earlybird Discount: Register before May 1st and save $70 per session! **\n\n  \nAll Camp Attendees get a FREE Chad Moeller Baseball T-Shirt! \nSummer Break Baseball Skills Camp\nJuly 20th through July 23rd\n9:00am-2pm each day\nAge: 7-14 Years of Age\nSKILLS EMPHASIS: Hitting\, Fielding\, Pitching\, Catching \nGet ready to hit it out of the park at the CMB Summer Baseball Camp! \nWe’re bringing the heat with an action-packed program covering all the bases – From lightning-fast base running to jaw-dropping defensive plays in both the infield and outfield\, we’ve got it all covered. Pitching\, catching\, and hitting will be finely tuned under the guidance of our all-star lineup of coaches. \nThis isn’t your average camp – it’s a journey led by former MLB legends\, Minor League heroes\, and college ball standouts. These pros are here to share their secrets\, fueling a passion for the game while building rock-solid fundamentals. \nWith a coach-to-player ratio of no more than 6-1\, you can bet your lucky glove that every player gets the VIP treatment. Expect personalized attention and top-notch instruction as you level up your game. And when it’s camp game time\, get ready to compete\, have fun\, and show off your skills in thrilling matchups against fellow ballers. \nThis summer\, it’s all about making memories\, having a blast\, and unleashing your inner baseball beast. Join us at the CMB Summer Baseball Camp and let’s knock it out of the park together! ⚾🔥 \n*Please bring a sack lunch and water to each day of Camp
URL:https://chadmoellerbaseball.com/clinic-or-camp/summer-baseball-camp-july-20th-23rd-2026/
LOCATION:Scottsdale Batting Cages\, 7498 E Monte Cristo Ave\, Scottsdale\, AZ\, 85260\, United States
CATEGORIES:Baseball Camps,Summer Break Baseball Camp
END:VEVENT
BEGIN:VEVENT
DTSTART;TZID=America/Phoenix:20260727T090000
DTEND;TZID=America/Phoenix:20260730T140000
DTSTAMP:20260423T083610
CREATED:20260209T151832Z
LAST-MODIFIED:20260209T151832Z
UID:21551-1785142800-1785420000@chadmoellerbaseball.com
SUMMARY:Summer Baseball Camp | July 27th -30th\, 2026
DESCRIPTION:** Earlybird Discount: Register before May 1st and save $70 per session! **\n\n  \nAll Camp Attendees get a FREE Chad Moeller Baseball T-Shirt! \nSummer Break Baseball Skills Camp\nJuly 27th through July 30th\, 2026\n9:00am-2pm each day\nAge: 7-14 Years of Age\nSKILLS EMPHASIS: Hitting\, Fielding\, Pitching\, Catching \nGet ready to hit it out of the park at the CMB Summer Baseball Camp! \nWe’re bringing the heat with an action-packed program covering all the bases – From lightning-fast base running to jaw-dropping defensive plays in both the infield and outfield\, we’ve got it all covered. Pitching\, catching\, and hitting will be finely tuned under the guidance of our all-star lineup of coaches. \nThis isn’t your average camp – it’s a journey led by former MLB legends\, Minor League heroes\, and college ball standouts. These pros are here to share their secrets\, fueling a passion for the game while building rock-solid fundamentals. \nWith a coach-to-player ratio of no more than 6-1\, you can bet your lucky glove that every player gets the VIP treatment. Expect personalized attention and top-notch instruction as you level up your game. And when it’s camp game time\, get ready to compete\, have fun\, and show off your skills in thrilling matchups against fellow ballers. \nThis summer\, it’s all about making memories\, having a blast\, and unleashing your inner baseball beast. Join us at the CMB Summer Baseball Camp and let’s knock it out of the park together! ⚾🔥 \n*Please bring a sack lunch and water to each day of Camp
URL:https://chadmoellerbaseball.com/clinic-or-camp/summer-baseball-camp-july-27th-30th-2026/
LOCATION:Scottsdale Batting Cages\, 7498 E Monte Cristo Ave\, Scottsdale\, AZ\, 85260\, United States
CATEGORIES:Baseball Camps,Summer Break Baseball Camp
END:VEVENT
END:VCALENDAR