BEGIN:VCALENDAR
VERSION:2.0
PRODID:-//Chad Moeller Baseball - ECPv6.15.20//NONSGML v1.0//EN
CALSCALE:GREGORIAN
METHOD:PUBLISH
X-WR-CALNAME:Chad Moeller Baseball
X-ORIGINAL-URL:https://chadmoellerbaseball.com
X-WR-CALDESC:Events for Chad Moeller Baseball
REFRESH-INTERVAL;VALUE=DURATION:PT1H
X-Robots-Tag:noindex
X-PUBLISHED-TTL:PT1H
BEGIN:VTIMEZONE
TZID:America/Phoenix
BEGIN:STANDARD
TZOFFSETFROM:-0700
TZOFFSETTO:-0700
TZNAME:MST
DTSTART:20210101T000000
END:STANDARD
END:VTIMEZONE
BEGIN:VEVENT
DTSTART;TZID=America/Phoenix:20230305T090000
DTEND;TZID=America/Phoenix:20230305T110000
DTSTAMP:20260423T175501
CREATED:20230131T174648Z
LAST-MODIFIED:20230131T174937Z
UID:13273-1678006800-1678014000@chadmoellerbaseball.com
SUMMARY:Hitting Clinic | March 5th\, 2023
DESCRIPTION:This Hitting Clinic is for boys aged 7-14 who want to enjoy learning the proper fundamentals and skills involved in hitting a baseball. \nThe Clinic Instruction is led by Chad Moeller and his team of former MLB players\, former and current Minor League players\, and former and current College players. \nOur Clinic attendees usually end up coming back every month because\n1.  the kids have a great time\,\n2.  the parents realize their young player comes home a better hitter than before the Clinic\, and\n3.  the price ($65) is terrific for two hours of intensive small-group instruction from MLB pros.
URL:https://chadmoellerbaseball.com/clinic-or-camp/hitting-clinic-march-5-2023/
LOCATION:Scottsdale Batting Cages\, 7498 E Monte Cristo Ave\, Scottsdale\, AZ\, 85260\, United States
CATEGORIES:Baseball Clinics,Hitting Clinic
END:VEVENT
BEGIN:VEVENT
DTSTART;TZID=America/Phoenix:20230205T090000
DTEND;TZID=America/Phoenix:20230205T110000
DTSTAMP:20260423T175501
CREATED:20230105T195022Z
LAST-MODIFIED:20230105T195022Z
UID:13200-1675587600-1675594800@chadmoellerbaseball.com
SUMMARY:Hitting Clinic | February 5th\, 2023
DESCRIPTION:This Hitting Clinic is for boys aged 7-14. The goal of the Clinic is for the boys to have fun while learning proper fundamentals and Hitting Skills. The Clinic Instruction is led by Chad Moeller and his team of former MLB players\, former and current Minor League players\, and former and current College players.
URL:https://chadmoellerbaseball.com/clinic-or-camp/hitting-clinic-february-5th-2023/
LOCATION:Scottsdale Batting Cages\, 7498 E Monte Cristo Ave\, Scottsdale\, AZ\, 85260\, United States
CATEGORIES:Baseball Clinics,Hitting Clinic
END:VEVENT
BEGIN:VEVENT
DTSTART;TZID=America/Phoenix:20230122T090000
DTEND;TZID=America/Phoenix:20230122T110000
DTSTAMP:20260423T175501
CREATED:20221121T215514Z
LAST-MODIFIED:20221121T215514Z
UID:13049-1674378000-1674385200@chadmoellerbaseball.com
SUMMARY:Hitting Clinic | January 22nd\, 2023
DESCRIPTION:This Hitting Clinic is for boys aged 7-14. The goal of the Clinic is for the boys to have fun while learning proper fundamentals and Hitting Skills. The Clinic Instruction is led by Chad Moeller and his team of former MLB players\, former and current Minor League players\, and former and current College players.
URL:https://chadmoellerbaseball.com/clinic-or-camp/hitting-clinic-january-22nd-2023/
LOCATION:Scottsdale Batting Cages\, 7498 E Monte Cristo Ave\, Scottsdale\, AZ\, 85260\, United States
CATEGORIES:Baseball Clinics,Hitting Clinic
END:VEVENT
BEGIN:VEVENT
DTSTART;TZID=America/Phoenix:20230108T090000
DTEND;TZID=America/Phoenix:20230108T110000
DTSTAMP:20260423T175501
CREATED:20221121T214949Z
LAST-MODIFIED:20230107T172016Z
UID:13046-1673168400-1673175600@chadmoellerbaseball.com
SUMMARY:Hitting Clinic | January 8th\, 2023
DESCRIPTION:This Hitting Clinic is for boys aged 7-14. The goal of the Clinic is for the boys to have fun while learning proper fundamentals and Hitting Skills. The Clinic Instruction is led by Chad Moeller and his team of former MLB players\, former and current Minor League players\, and former and current College players.
URL:https://chadmoellerbaseball.com/clinic-or-camp/hitting-clinic-january-8th-2023/
LOCATION:Scottsdale Batting Cages\, 7498 E Monte Cristo Ave\, Scottsdale\, AZ\, 85260\, United States
CATEGORIES:Baseball Clinics,Hitting Clinic
END:VEVENT
BEGIN:VEVENT
DTSTART;TZID=America/Phoenix:20221113T090000
DTEND;TZID=America/Phoenix:20221113T110000
DTSTAMP:20260423T175501
CREATED:20220929T022425Z
LAST-MODIFIED:20221112T181653Z
UID:12923-1668330000-1668337200@chadmoellerbaseball.com
SUMMARY:Hitting Clinic | November 13th\, 2022
DESCRIPTION:This Hitting Clinic is for boys aged 7-14. The goal of the Clinic is for the boys to have fun while learning proper fundamentals and Hitting Skills. The Clinic Instruction is led by Chad Moeller and his team of former MLB players\, former and current Minor League players\, and former and current College players.
URL:https://chadmoellerbaseball.com/clinic-or-camp/hitting-clinic-november-12th-2022/
LOCATION:Scottsdale Batting Cages\, 7498 E Monte Cristo Ave\, Scottsdale\, AZ\, 85260\, United States
CATEGORIES:Baseball Clinics,Hitting Clinic
END:VEVENT
BEGIN:VEVENT
DTSTART;TZID=America/Phoenix:20221023T090000
DTEND;TZID=America/Phoenix:20221023T110000
DTSTAMP:20260423T175501
CREATED:20220929T021841Z
LAST-MODIFIED:20220929T050635Z
UID:12920-1666515600-1666522800@chadmoellerbaseball.com
SUMMARY:Hitting Clinic | October 23rd\, 2022
DESCRIPTION:This Hitting Clinic is for boys aged 7-14. The goal of the Clinic is for the boys to have fun while learning proper fundamentals and Hitting Skills. The Clinic Instruction is led by Chad Moeller and his team of former MLB players\, former and current Minor League players\, and former and current College players.
URL:https://chadmoellerbaseball.com/clinic-or-camp/hitting-clinic-october-22nd-2022/
LOCATION:Scottsdale Batting Cages\, 7498 E Monte Cristo Ave\, Scottsdale\, AZ\, 85260\, United States
CATEGORIES:Baseball Clinics,Hitting Clinic
END:VEVENT
BEGIN:VEVENT
DTSTART;TZID=America/Phoenix:20220925T090000
DTEND;TZID=America/Phoenix:20220925T110000
DTSTAMP:20260423T175501
CREATED:20220823T173228Z
LAST-MODIFIED:20220823T173228Z
UID:12808-1664096400-1664103600@chadmoellerbaseball.com
SUMMARY:Hitting Clinic | September 25th\, 2022
DESCRIPTION:This Hitting Clinic is for boys aged 7-14. The goal of the Clinic is for the boys to have fun while learning proper fundamentals and Hitting Skills. The Clinic Instruction is led by Chad Moeller and his team of former MLB players\, former and current Minor League players\, and former and current College players.
URL:https://chadmoellerbaseball.com/clinic-or-camp/hitting-clinic-september-25th-2022/
LOCATION:Scottsdale Batting Cages\, 7498 E Monte Cristo Ave\, Scottsdale\, AZ\, 85260\, United States
CATEGORIES:Baseball Clinics,Hitting Clinic
END:VEVENT
BEGIN:VEVENT
DTSTART;TZID=America/Phoenix:20220911T090000
DTEND;TZID=America/Phoenix:20220911T110000
DTSTAMP:20260423T175501
CREATED:20220823T173712Z
LAST-MODIFIED:20220823T173750Z
UID:12814-1662886800-1662894000@chadmoellerbaseball.com
SUMMARY:Catcher Clinic | September 11th\, 2022
DESCRIPTION:This Catcher Clinic is for boys 7-13 and is led by World Series Winning MLB Catcher Chad Moeller. The goal of this Clinic is for young players to learn the fundamentals of playing the position of Catcher\, including blocking\, receiving\, throwing and footwork.
URL:https://chadmoellerbaseball.com/clinic-or-camp/catcher-clinic-september-11th-2022/
LOCATION:Scottsdale Batting Cages\, 7498 E Monte Cristo Ave\, Scottsdale\, AZ\, 85260\, United States
CATEGORIES:Baseball Clinics,Catching Clinic
END:VEVENT
BEGIN:VEVENT
DTSTART;TZID=America/Phoenix:20220911T090000
DTEND;TZID=America/Phoenix:20220911T110000
DTSTAMP:20260423T175501
CREATED:20220823T173455Z
LAST-MODIFIED:20220823T173455Z
UID:12811-1662886800-1662894000@chadmoellerbaseball.com
SUMMARY:Pitching Clinic | September 11th\, 2022
DESCRIPTION:This Pitcher Clinic is led by 17-year Baseball Pro and premiere instructor Stephen Randolph. Steve has earned the reputation of being the best youth pitching instructor in Arizona. Attendees will work on the breakdown of the mechanics of pitching and receive one-on-one instruction from Steve. Coach to player ratio is never more than 1:6 for all Chad Moeller Baseball Clinics\, so all attendees receive personal attention.
URL:https://chadmoellerbaseball.com/clinic-or-camp/pitching-clinic-september-11th-2022/
LOCATION:Scottsdale Batting Cages\, 7498 E Monte Cristo Ave\, Scottsdale\, AZ\, 85260\, United States
CATEGORIES:Baseball Clinics,Pitching Clinic
END:VEVENT
BEGIN:VEVENT
DTSTART;TZID=America/Phoenix:20220828T090000
DTEND;TZID=America/Phoenix:20220828T110000
DTSTAMP:20260423T175501
CREATED:20220823T173034Z
LAST-MODIFIED:20220823T173034Z
UID:12805-1661677200-1661684400@chadmoellerbaseball.com
SUMMARY:Hitting Clinic | August 28th\, 2022
DESCRIPTION:This Hitting Clinic is for boys aged 7-14. The goal of the Clinic is for the boys to have fun while learning proper fundamentals and Hitting Skills. The Clinic Instruction is led by Chad Moeller and his team of former MLB players\, former and current Minor League players\, and former and current College players.
URL:https://chadmoellerbaseball.com/clinic-or-camp/hitting-clinic-august-28th-2022/
LOCATION:Scottsdale Batting Cages\, 7498 E Monte Cristo Ave\, Scottsdale\, AZ\, 85260\, United States
CATEGORIES:Baseball Clinics,Hitting Clinic
END:VEVENT
BEGIN:VEVENT
DTSTART;TZID=America/Phoenix:20220725T090000
DTEND;TZID=America/Phoenix:20220728T140000
DTSTAMP:20260423T175501
CREATED:20220314T223553Z
LAST-MODIFIED:20220723T215413Z
UID:12244-1658739600-1659016800@chadmoellerbaseball.com
SUMMARY:Summer Break Baseball Camp | July 25-28\, 2022
DESCRIPTION:All Camp Attendees get a FREE Chad Moeller Baseball T-Shirt! \nSummer Break Baseball Skills Camp\nJuly 25th through 28th\, 2022\n9:00am-2pm each day\nAge: 7-14 Years of Age\nSKILLS EMPHASIS: Hitting\, Fielding\, Pitching\, Catching \nThe CMB Summer Baseball Camp will cover all the skills that take place on the baseball field. There will be a focus on base running\, defense (both infield and outfield)\, pitching\, catching and hitting. The goal is for the boys to have fun and also learn skills and proper fundamentals. This camp is taught by former MLB players\, former and current Minor League players and former and current College players. The ratio of coaches to players will be no more than 6-1 so the players receive tremendous attention and instruction. They will play games were they can work on what they have learned and have fun competing. \n*Please bring a sack lunch and water to each day of Camp
URL:https://chadmoellerbaseball.com/clinic-or-camp/summer-break-baseball-camp-july-25-28-2022/
LOCATION:Scottsdale Batting Cages\, 7498 E Monte Cristo Ave\, Scottsdale\, AZ\, 85260\, United States
CATEGORIES:Baseball Camps,Summer Break Baseball Camp
END:VEVENT
BEGIN:VEVENT
DTSTART;TZID=America/Phoenix:20220718T090000
DTEND;TZID=America/Phoenix:20220721T140000
DTSTAMP:20260423T175501
CREATED:20220314T223239Z
LAST-MODIFIED:20220710T214947Z
UID:12241-1658134800-1658412000@chadmoellerbaseball.com
SUMMARY:Summer Break Baseball Camp | July 18-21\, 2022
DESCRIPTION:All Camp Attendees get a FREE Chad Moeller Baseball T-Shirt! \nSummer Break Baseball Skills Camp\nJuly 18th through 21st\, 2022\n9:00am-2pm each day\nAge: 7-14 Years of Age\nSKILLS EMPHASIS: Hitting\, Fielding\, Pitching\, Catching \nThe CMB Summer Baseball Camp will cover all the skills that take place on the baseball field. There will be a focus on base running\, defense (both infield and outfield)\, pitching\, catching and hitting. The goal is for the boys to have fun and also learn skills and proper fundamentals. This camp is taught by former MLB players\, former and current Minor League players and former and current College players. The ratio of coaches to players will be no more than 6-1 so the players receive tremendous attention and instruction. They will play games were they can work on what they have learned and have fun competing. \n*Please bring a sack lunch and water to each day of Camp
URL:https://chadmoellerbaseball.com/clinic-or-camp/summer-break-baseball-camp-july-18-21-2022/
LOCATION:Scottsdale Batting Cages\, 7498 E Monte Cristo Ave\, Scottsdale\, AZ\, 85260\, United States
CATEGORIES:Baseball Camps,Summer Break Baseball Camp
END:VEVENT
BEGIN:VEVENT
DTSTART;TZID=America/Phoenix:20220711T090000
DTEND;TZID=America/Phoenix:20220714T140000
DTSTAMP:20260423T175501
CREATED:20220314T222654Z
LAST-MODIFIED:20220511T162027Z
UID:12238-1657530000-1657807200@chadmoellerbaseball.com
SUMMARY:Summer Break Baseball Camp | July 11-14\, 2022
DESCRIPTION:All Camp Attendees get a FREE Chad Moeller Baseball T-Shirt! \nSummer Break Baseball Skills Camp\nJuly 11th through 14th\, 2022\n9:00am-2pm each day\nAge: 7-14 Years of Age\nSKILLS EMPHASIS: Hitting\, Fielding\, Pitching\, Catching \nThe CMB Summer Baseball Camp will cover all the skills that take place on the baseball field. There will be a focus on base running\, defense (both infield and outfield)\, pitching\, catching and hitting. The goal is for the boys to have fun and also learn skills and proper fundamentals. This camp is taught by former MLB players\, former and current Minor League players and former and current College players. The ratio of coaches to players will be no more than 6-1 so the players receive tremendous attention and instruction. They will play games were they can work on what they have learned and have fun competing. \n*Please bring a sack lunch and water to each day of Camp
URL:https://chadmoellerbaseball.com/clinic-or-camp/summer-break-baseball-camp-july-11-14-2022/
LOCATION:Scottsdale Batting Cages\, 7498 E Monte Cristo Ave\, Scottsdale\, AZ\, 85260\, United States
CATEGORIES:Baseball Camps,Summer Break Baseball Camp
END:VEVENT
BEGIN:VEVENT
DTSTART;TZID=America/Phoenix:20220627T090000
DTEND;TZID=America/Phoenix:20220630T140000
DTSTAMP:20260423T175501
CREATED:20220314T220732Z
LAST-MODIFIED:20220511T161901Z
UID:12230-1656320400-1656597600@chadmoellerbaseball.com
SUMMARY:Summer Break Baseball Camp | June 27-30\, 2022
DESCRIPTION:All Camp Attendees get a FREE Chad Moeller Baseball T-Shirt! \nSummer Break Baseball Skills Camp\nJune 27th through 30th\, 2022\n9:00am-2pm each day\nAge: 7-14 Years of Age\nSKILLS EMPHASIS: Hitting\, Fielding\, Pitching\, Catching \nThe CMB Summer Baseball Camp will cover all the skills that take place on the baseball field. There will be a focus on base running\, defense (both infield and outfield)\, pitching\, catching and hitting. The goal is for the boys to have fun and also learn skills and proper fundamentals. This camp is taught by former MLB players\, former and current Minor League players and former and current College players. The ratio of coaches to players will be no more than 6-1 so the players receive tremendous attention and instruction. They will play games were they can work on what they have learned and have fun competing. \n*Please bring a sack lunch and water to each day of Camp
URL:https://chadmoellerbaseball.com/clinic-or-camp/summer-break-baseball-camp-june-27-30-2022-2/
LOCATION:Scottsdale Batting Cages\, 7498 E Monte Cristo Ave\, Scottsdale\, AZ\, 85260\, United States
CATEGORIES:Baseball Camps,Summer Break Baseball Camp
END:VEVENT
BEGIN:VEVENT
DTSTART;TZID=America/Phoenix:20220606T090000
DTEND;TZID=America/Phoenix:20220728T140000
DTSTAMP:20260423T175501
CREATED:20220318T230323Z
LAST-MODIFIED:20220318T230844Z
UID:12257-1654506000-1659016800@chadmoellerbaseball.com
SUMMARY:Summer Camp Bundle 2022
DESCRIPTION:Purchase all seven sessions of Summer Break Baseball Camp and Save 40% off the regular price! \n\n\n\n*No other discounts apply \n\nSummer Break Baseball Skills Camp\n9:00am-2pm each day \n  \nCamp Weeks:\n* June 6th\, 7th\, 8th\, 9th\n* June 13th\, 14th\, 15th\, 16th\n* June 20th\, 21st\, 22nd\, 23rd\n* June 27th\, 28th\, 29th\, 30th\n* July 11th\, 12th\, 13th\, 14th\n* July 18th\, 19th\, 20th\, 21st\n* July 25th\, 26th\, 27th\, 28th \n*Please bring a sack lunch and water to each day of Camp \nThe CMB Summer Baseball Camp will cover all the skills that take place on the baseball field. There will be a focus on base running\, defense (both infield and outfield)\, pitching\, catching and hitting. The goal is for the boys to have fun and also learn skills and proper fundamentals. This camp is taught by former MLB players\, former and current Minor League players and former and current College players. The ratio of coaches to players will be no more than 6-1 so the players receive tremendous attention and instruction. They will play games were they can work on what they have learned and have fun competing. \nFor Ages: 7-14\nSKILLS EMPHASIS: Hitting\, Fielding\, Pitching\, Catching
URL:https://chadmoellerbaseball.com/clinic-or-camp/summer-camp-bundle-2022/
LOCATION:Scottsdale Batting Cages\, 7498 E Monte Cristo Ave\, Scottsdale\, AZ\, 85260\, United States
CATEGORIES:Baseball Camps,Summer Break Baseball Camp
END:VEVENT
END:VCALENDAR